BEGIN:VCALENDAR
VERSION:2.0
PRODID:-//Dokukino KIC - Kino sa stavom - ECPv6.8.1//NONSGML v1.0//EN
CALSCALE:GREGORIAN
METHOD:PUBLISH
X-WR-CALNAME:Dokukino KIC - Kino sa stavom
X-ORIGINAL-URL:https://dokukino.net
X-WR-CALDESC:Events for Dokukino KIC - Kino sa stavom
REFRESH-INTERVAL;VALUE=DURATION:PT1H
X-Robots-Tag:noindex
X-PUBLISHED-TTL:PT1H
BEGIN:VTIMEZONE
TZID:UTC
BEGIN:STANDARD
TZOFFSETFROM:+0000
TZOFFSETTO:+0000
TZNAME:UTC
DTSTART:20260101T000000
END:STANDARD
END:VTIMEZONE
BEGIN:VEVENT
DTSTART;TZID=UTC:20260501T180000
DTEND;TZID=UTC:20260501T200000
DTSTAMP:20260424T132047
CREATED:20260423T160611Z
LAST-MODIFIED:20260423T160611Z
UID:26897-1777658400-1777665600@dokukino.net
SUMMARY:Suživot\, moš mislit!
DESCRIPTION:Noam Shuster Eliassi odrasla je kao doslovno zaštitno lice izraelsko-palestinskog mirovnog procesa — sve dok nije naglo skrenula u svijet stand-up komedije i političke satire. No\, dok regija tone sve dublje u razarajuće nasilje\, Noam više ne može samo nasmijavati: sada mora prodrmati svoju publiku istinama koje nikome nisu smiješne. \nFilm Suživot\, moš mislit! prati komičarku Noam dok priprema svoj nastup; sniman je tijekom pet burnih godina\, a prati Noaminu osobnu\, profesionalnu i političku transformaciju. Odrasla u bilingvalnom izraelsko-palestinskom selu\, jedinoj namjerno integriranoj zajednici u zemlji\, Noam postaje deziluzionirana s tradicionalnim mirovnim aktivističkim akcijama. Baca se u stand-up vode i postaje poznata diljem Bliskog Istoka. No dok njezina popularnost raste\, sve se oko nje raspada. Njezini nastupi\, u kojima se miješaju smijeh i teške istine\, podsjećaju nas da je drugačiji svijet moguć. \nFestivali i nagrade: \nSUNDANCE FILM FESTIVAL 2025 – World Cinema Documentary Special Jury Award: Freedom of Expression / THESSALONIKI DOCUMENTARY FILM FESTIVAL 2025 – Golden Alexander\, Human Rights in Motion Award / DOKUFEST INTERNATIONAL DOCUMENTARY AND SHORT FILM FESTIVAL 2025 – Best Youth Film Award / VISIONS DU RÉEL INTERNATIONAL FILM FESTIVAL NYON 2025 / VALLADOLID INTERNATIONAL FILM FESTIVAL 2025 / FESTIVAL OF TOLERANCE 2026 \nRecenzije: \n“Eliassi i Suživot\, moš mislit! uspijevaju postići nemoguće i radikalne ideje prezentirati kroz humor. Rijedak je to primjer komedije koja je ujedno i ozbiljna i urgentna.” Variety
URL:https://dokukino.net/film/suzivot-mos-mislit/
LOCATION:Dokukino KIC\, Preradovićeva 5
CATEGORIES:Dugometražni
ATTACH;FMTTYPE=image/jpeg:https://dokukino.net/wp-content/uploads/2026/04/COEXISTENCE_poster_27x40-small.jpg
END:VEVENT
BEGIN:VEVENT
DTSTART;TZID=UTC:20260502T180000
DTEND;TZID=UTC:20260502T200000
DTSTAMP:20260424T132047
CREATED:20260423T162253Z
LAST-MODIFIED:20260423T162416Z
UID:26911-1777744800-1777752000@dokukino.net
SUMMARY:Lomeći prepreke
DESCRIPTION:Sara Shahverdi – razvedena bivša primalja motociklistica – neočekivana je liderica u svom konzervativnom selu na sjeverozapadu Irana. Kao prva žena ikada izabrana u lokalno vijeće odlučila je prekinuti ciklus praznih obećanja i zadovoljstva samim sobom koje su nametali muškarci prije nje. Žestoka i beskompromisna\, Sara se zalaže za hrabre reforme i vodi svoje najteže bitke u ime djevojaka i žena u selu. Od podučavanja tinejdžerica vožnji motocikla do osporavanja dječjih brakova i zagovaranja vlasništva nad zemljom za žene\, otvoreno prkosi patrijarhalnim normama. No kada njezini napori izazovu negativne reakcije i optužbe o stvarnim motivima\, Sara se mora suočiti ne samo sa svojim kritičarima već i s vlastitim osjećajem identiteta. \nFestivali i nagrade: \nSUNDANCE FILM FESTIVAL 2025 – Grand Jury Award for World Cinema Documentary / NEW ZEALAND FILM FESTIVAL 2025 – Best Documentary\, Audience Award / GIFFONI FILM FESTIVAL 2025 – Best Documentary Award / MDOC FILM FESTIVAL 2025 – Best Documentary Award / VISIONS DU RÉEL 2025 – Audience Award / WOODSTOCK FILM FESTIVAL 2025 – Best Feature Documentary\, Best Documentary Directing / WARSAW FILM FESTIVAL 2025 – The NETPAC Award / FESTIVAL DES LIBERTÉS 2025 – Grand Jury Award of the Festival / ZAGREBDOX 2026. \nRecenzije: \n“Film Lomeći prepreke je\, kao i njegova protagonistica\, otporan. Čini ga zbroj malenih\, moćnih trenutaka.” Dan Mecca\, The Film Stage \n“Portret iznimne žene koji potiče na razmišljanje” Phuong Le\, The Guardian
URL:https://dokukino.net/film/lomeci-prepreke/
LOCATION:Dokukino KIC\, Preradovićeva 5
CATEGORIES:Dugometražni
ATTACH;FMTTYPE=image/jpeg:https://dokukino.net/wp-content/uploads/2026/04/Poster-CTR_v10_print.jpg
END:VEVENT
BEGIN:VEVENT
DTSTART;TZID=UTC:20260503T180000
DTEND;TZID=UTC:20260503T200000
DTSTAMP:20260424T132047
CREATED:20260423T163128Z
LAST-MODIFIED:20260423T163128Z
UID:26918-1777831200-1777838400@dokukino.net
SUMMARY:2000 metara do Andriivke
DESCRIPTION:Film 2000 metara do Andriivke dokumentira posljedice rusko-ukrajinskog rata iz osobne i razorne perspektive. Redatelj okreće objektiv prema ukrajinskim vojnicima – tko su\, odakle su došli\, s kakvim se nemogućim odlukama suočavaju u rovovima dok se bore za svaki centimetar svoje zemlje. Film prati ukrajinsku brigadu kroz otprilike dva kilometra teško utvrđene šume\, u misiji oslobađanja sela Andriivke pod ruskom okupacijom. Ispreplićući originalne snimke\, intenzivne videosnimke ukrajinske vojske nastale tjelesnom kamerom i snažne trenutke razmišljanja\, s uznemirujućom intimnošću otkriva da što dalje vojnici napreduju kroz svoju uništenu domovinu\, to više shvaćaju kako za njih ovaj rat možda nikada neće završiti. \nFestivali i nagrade: \nSUNDANCE FILM FESTIVAL 2025 – Directing Award / CPH:DOX 2025 – F:ACT Award / HOT DOCS CANADIAN INTERNATIONAL DOCUMENTARY FESTIVAL / SHEFFIELD INTERNATIONAL DOCUMENTARY FESTIVAL / FULL FRAME DOCUMENTARY FILM FESTIVAL / DOCAVIV / KARLOVY VARY INTERNATIONAL FILM FESTIVAL / ZAGREBDOX 2026. \nRecenzije: \n“Černov nam donosi snažan\, neposredan uvid u iskustva ukrajinskih vojnika tijekom posljednjih deset godina.” Therese Lacson\, Collider \n“Prodoran pogled na strahote i tugu rata” Phil de Semlyen\, Time Out
URL:https://dokukino.net/film/2000-metara-do-andriivke/
LOCATION:Dokukino KIC\, Preradovićeva 5
CATEGORIES:Dugometražni
ATTACH;FMTTYPE=image/jpeg:https://dokukino.net/wp-content/uploads/2026/04/MV5BMTBjNGQ2NzUtNmRiNS00NzY0LTk5ZDMtMTNlNmE4NTU2ODI4XkEyXkFqcGc@._V1_.jpg
END:VEVENT
END:VCALENDAR