BEGIN:VCALENDAR
VERSION:2.0
PRODID:-//Dokukino KIC - Kino sa stavom - ECPv6.8.1//NONSGML v1.0//EN
CALSCALE:GREGORIAN
METHOD:PUBLISH
X-ORIGINAL-URL:https://dokukino.net
X-WR-CALDESC:Events for Dokukino KIC - Kino sa stavom
REFRESH-INTERVAL;VALUE=DURATION:PT1H
X-Robots-Tag:noindex
X-PUBLISHED-TTL:PT1H
BEGIN:VTIMEZONE
TZID:UTC
BEGIN:STANDARD
TZOFFSETFROM:+0000
TZOFFSETTO:+0000
TZNAME:UTC
DTSTART:20260101T000000
END:STANDARD
END:VTIMEZONE
BEGIN:VEVENT
DTSTART;TZID=UTC:20260503T180000
DTEND;TZID=UTC:20260503T200000
DTSTAMP:20260423T200359
CREATED:20260423T163128Z
LAST-MODIFIED:20260423T163128Z
UID:26918-1777831200-1777838400@dokukino.net
SUMMARY:2000 metara do Andriivke
DESCRIPTION:Film 2000 metara do Andriivke dokumentira posljedice rusko-ukrajinskog rata iz osobne i razorne perspektive. Redatelj okreće objektiv prema ukrajinskim vojnicima – tko su\, odakle su došli\, s kakvim se nemogućim odlukama suočavaju u rovovima dok se bore za svaki centimetar svoje zemlje. Film prati ukrajinsku brigadu kroz otprilike dva kilometra teško utvrđene šume\, u misiji oslobađanja sela Andriivke pod ruskom okupacijom. Ispreplićući originalne snimke\, intenzivne videosnimke ukrajinske vojske nastale tjelesnom kamerom i snažne trenutke razmišljanja\, s uznemirujućom intimnošću otkriva da što dalje vojnici napreduju kroz svoju uništenu domovinu\, to više shvaćaju kako za njih ovaj rat možda nikada neće završiti. \nFestivali i nagrade: \nSUNDANCE FILM FESTIVAL 2025 – Directing Award / CPH:DOX 2025 – F:ACT Award / HOT DOCS CANADIAN INTERNATIONAL DOCUMENTARY FESTIVAL / SHEFFIELD INTERNATIONAL DOCUMENTARY FESTIVAL / FULL FRAME DOCUMENTARY FILM FESTIVAL / DOCAVIV / KARLOVY VARY INTERNATIONAL FILM FESTIVAL / ZAGREBDOX 2026. \nRecenzije: \n“Černov nam donosi snažan\, neposredan uvid u iskustva ukrajinskih vojnika tijekom posljednjih deset godina.” Therese Lacson\, Collider \n“Prodoran pogled na strahote i tugu rata” Phil de Semlyen\, Time Out
URL:https://dokukino.net/film/2000-metara-do-andriivke/
LOCATION:Dokukino KIC\, Preradovićeva 5
CATEGORIES:Dugometražni
ATTACH;FMTTYPE=image/jpeg:https://dokukino.net/wp-content/uploads/2026/04/MV5BMTBjNGQ2NzUtNmRiNS00NzY0LTk5ZDMtMTNlNmE4NTU2ODI4XkEyXkFqcGc@._V1_.jpg
END:VEVENT
END:VCALENDAR