BEGIN:VCALENDAR
VERSION:2.0
PRODID:-//Dokukino KIC - Kino sa stavom - ECPv6.8.1//NONSGML v1.0//EN
CALSCALE:GREGORIAN
METHOD:PUBLISH
X-WR-CALNAME:Dokukino KIC - Kino sa stavom
X-ORIGINAL-URL:https://dokukino.net
X-WR-CALDESC:Events for Dokukino KIC - Kino sa stavom
REFRESH-INTERVAL;VALUE=DURATION:PT1H
X-Robots-Tag:noindex
X-PUBLISHED-TTL:PT1H
BEGIN:VTIMEZONE
TZID:UTC
BEGIN:STANDARD
TZOFFSETFROM:+0000
TZOFFSETTO:+0000
TZNAME:UTC
DTSTART:20260101T000000
END:STANDARD
END:VTIMEZONE
BEGIN:VEVENT
DTSTART;TZID=UTC:20260428T190000
DTEND;TZID=UTC:20260428T210000
DTSTAMP:20260420T200325
CREATED:20251126T220804Z
LAST-MODIFIED:20260420T145624Z
UID:26890-1777402800-1777410000@dokukino.net
SUMMARY:Dokukino Eter: Srđan Kovačević – Ono što treba činiti
DESCRIPTION:Na novom izdanju programa Dokukino Eter prikazuje se nagrađivani dokumentarac Ono što treba činiti redatelja Srđana Kovačevića. \nFilm prikazuje svakodnevicu Delavske svetovalnice\, razotkrivajući rupe sustava koji ne funkcionira\, borbu migrantskih radnika i radnica i mali borbeni kolektiv koji se srčano bori za radnička prava obespravljenih. \nBivši električar\, socijalna radnica i sindikalni aktivist formiraju savez na naizgled nemogućem zadatku. Dok današnja Europa počiva na jeftinom radu migrantskih radnika\, sami radnici u potrazi za boljim životom pristaju na loše uvjete rada\, prekovremene sate\, spavanje u kontejnerima\, ucjene poslodavaca i poništavanje vlastitog dostojanstva. Laura Orel\, Goran Lukić i Goran Zrnić i njihovo Radničko savjetovalište iz Ljubljane (Delavska svetovalnica) – njihova su jedina adresa\, jedini saveznici. Bilo da su u pitanju radnici sa Balkana\, Afrike ili Azije\, u ovoj neobičnoj organizaciji\, oni svakodnevno traže pomoć\, prevareni i gladni\, bez zarađenih plaća i bez nade u bolje sutra. Ovo je priča o naličju suvremene Europe\, ali i pravom sindikalnom radu\, o mogućnostima i ograničenjima tog rada i nesebičnoj solidarnosti koja je usprkos svemu moguća. \nNakon filma uslijedit će razgovor s redateljem Srđanom Kovačevićem i Krešimirom Zovakom iz Novog sindikata o radničkim pravima\, potplaćenosti\, kapitalizmu\, radničkom samoupravljanju\, sindikatima i organiziranju stranih radnika i radnica u Hrvatskoj. \n  \nDokukino Eter je filmsko-diskurzivni program koji je Dokukino pokrenulo u suradnji s Klubom Studenata FPZG i Radio Studentom. Kroz zajednički program Dokukino Eter želimo otvoriti prostor kina mladima\, potaknuti ih na otvoreno kritičko promišljanje i diskusiju\, te promovirati društveno angažirane i umjetnički relevantne dokumentarce. U sklopu programa studenti_ce samostalno biraju filmove\, razgovaraju s gostima\, te osmišljaju i organiziraju događanje\, a u planu je i niz drugih aktivnosti poput radionice za stvaranje kratkih tematskih videa Gledaj svijet\, mijenjaj svijet. \nAutorica vizuala za Dokukino Eter je Mila Skalić Acuna.
URL:https://dokukino.net/film/ono-sto-treba-ciniti-2-2026-04-28/
LOCATION:Dokukino KIC\, Preradovićeva 5
CATEGORIES:Dugometražni
ATTACH;FMTTYPE=image/jpeg:https://dokukino.net/wp-content/uploads/2025/11/poster-.jpg
END:VEVENT
END:VCALENDAR