BEGIN:VCALENDAR
VERSION:2.0
PRODID:-//Dokukino KIC - Kino sa stavom - ECPv6.8.1//NONSGML v1.0//EN
CALSCALE:GREGORIAN
METHOD:PUBLISH
X-WR-CALNAME:Dokukino KIC - Kino sa stavom
X-ORIGINAL-URL:https://dokukino.net
X-WR-CALDESC:Events for Dokukino KIC - Kino sa stavom
REFRESH-INTERVAL;VALUE=DURATION:PT1H
X-Robots-Tag:noindex
X-PUBLISHED-TTL:PT1H
BEGIN:VTIMEZONE
TZID:UTC
BEGIN:STANDARD
TZOFFSETFROM:+0000
TZOFFSETTO:+0000
TZNAME:UTC
DTSTART:20260101T000000
END:STANDARD
END:VTIMEZONE
BEGIN:VEVENT
DTSTART;TZID=UTC:20260212T180000
DTEND;TZID=UTC:20260212T193000
DTSTAMP:20260422T090352
CREATED:20260202T230950Z
LAST-MODIFIED:20260204T002824Z
UID:26075-1770919200-1770924600@dokukino.net
SUMMARY:Kritika i društvo: Léa Morin – BASTA. Filmovi koji ne postoje\, postoje
DESCRIPTION:U četvrtak 12. veljače s početkom u 18 h kustosica i istraživačica Léa Morin održat će performativno predavanje BASTA. Filmovi koji ne postoje\, postoje u kojem tvori asamblaž odsutnih slika i marginaliziranih filmskih narativa – nerealizirani film Basta marokanskog revolucionarnog političara Mehdija Bena Barke\, Alžirska kinoteka\, Filmska škola u  Łódźu\, nestali filmovi Madeleine Beauséjour s otoka Réunion i manifesti za dekolonijalnu kinematografiju nakon stjecanja nezavisnosti. \nIz ovih isprepletenih fragmenata\, Morin oblikuje narativ iz kojeg proizlaze brojna pitanja: Kako možemo arhivirati filmove koji ne postoje? Koje mjesto možemo pronaći u našim povijestima filma za uzdahe\, želje i rane? Kako da se brinemo za ova oštećena ili odsutna djela bez brisanja ili poricanja borbi u kojima su nastala? Kroz dijeljenje pokreta i materijala – uključujući filmove\, slike\, dokumente i fotografije – ovo je pokušaj iscrtavanja povijesnih kontura i preispitivanja naših praksi; kretanje prema kolektivnom i povezivanje\, udruživanje\, sastavljanje i artikuliranje\, umjesto razdvajanja. \nLéa Morin je filmska kustosica i istraživačica. Posebno je zainteresirana za cirkulaciju ideja\, formi\, estetike te političkih i umjetničkih borbi\, te je posvećena očuvanju filmskih arhiva krhkih kinematografija koje se suprotstavljaju autoritarnim narativima. Aktivna je u nekoliko udruga i kolektiva\, uključujući Bouanani Archives: A History of Cinema in Morocco (Rabat)\, Talitha (www.talitha3.com)\, organizaciju koja se bavi recirkulacijom zvučnih i filmskih djela putem montaže i restauracije (Rennes)\, urednički projekt Intilak (s Mayom Ouabadi i Toudom Bouanani)\, kao i Istraživački odjel Elíasa Querejete Zine Eskola (San Sebastian). Iz svojeg pozamašnog kustoskog i istraživačkog angažmana izdvaja rad na restauraciji i recirkulaciji prvog filma Mostafe Derkaouija De quelques événements sans signification te oblikovanje arhivističke web stranice www.cinima3.com koja je posvećena priči o boravku marokanskih filmaša u Poljskoj 1960-ih i 1970-ih. \n  \nPerformativno predavanje druga je dionica programa Uloga arhiva u radničkoj i antikolonijalnoj borbi kustosice Dine Pokrajac u sklopu projekta Kritika i društvo koji organizira Hrvatsko društvo filmskih kritičara (HDFK). \nU pitanju je ujedno i prvo javno događanje koje prati stipendiranu radionicu borbenog filma Slika pripada onima koji s njom rade koju u 2026. vode Karla Crnčević i Dina Pokrajac. Program donosimo u suradnji s kinom Unseen\, SPID-om i Restartom.
URL:https://dokukino.net/film/kritika-i-drustvo-lea-morin-basta-filmovi-koji-ne-postoje-postoje/
LOCATION:Dokukino KIC\, Preradovićeva 5
CATEGORIES:Događaj
ATTACH;FMTTYPE=image/jpeg:https://dokukino.net/wp-content/uploads/2026/02/HDFK_ANTIKOL_IG.jpg
END:VEVENT
BEGIN:VEVENT
DTSTART;TZID=UTC:20260214T190000
DTEND;TZID=UTC:20260214T210000
DTSTAMP:20260422T090352
CREATED:20260204T095259Z
LAST-MODIFIED:20260212T120351Z
UID:26102-1771095600-1771102800@dokukino.net
SUMMARY:Lumumba: Smrt proroka
DESCRIPTION:Patrice Lumumba (1925-1961) bio je borac za dekolonizaciju\, prvi premijer neovisne Demokratske Republike Kongo\, a danas je globalni simbol borbe za slobodu i prava potlačenih. Lumumba: Smrt proroka duboko je osobna refleksija u režiji hvaljenog haićanskog filmaša Raoula Pecka o njegovu munjevitom dvanaestomjesečnom usponu i padu te potresan spomenar čovjeku kojeg su suvremenici nazivali divom\, prorokom\, vragom\, „mistikom slobode“ i „Elvisom Presleyjem afričke politike“. \nAko je Lumumba: Smrt proroka film o sjećanju\, to je još više film o zaboravu. Namjesto konvencionalne biografije Peck demonstrira kako su Lumumbino nasljeđe manipulirali političari\, mediji i samo vrijeme. Pretražuje kućne filmove\, fotografije\, stare filmske žurnale i suvremene intervjue s belgijskim novinarima i Lumumbinom vlastitom kćeri kako bi pokušao povezati tragične događaje i izdaje iz 1960. godine. Filmski esej u tradiciji Noći i magle ili Tuge i milosti\, Lumumba: Smrt proroka istražuje kako svaka slika neizbježno potiskuje višestruke priče koje je okružuju\, dok je prošlost uvijek u određenom smislu talac pobjednika povijesti. \nFilmska projekcija i razgovor održavaju se na 65. obljetnicu zagrebačkog prosvjeda održanog povodom ubojstva Patricea Lumumbe 1961. godine\, ukazujući na snažan odjek globalnih političkih događaja u lokalnom kontekstu. \n  \nSudionici_e razgovora: \nGeorges Senga kongoanski je fotograf koji trenutno radi i živi u Nizozemskoj. Fokus njegova fotografskog rada jest istraživanje povijesti i narativa\, sjećanja i identiteta u kontekstu postkolonijalne povijesti DR Konga. Njegov rad često tematizira nasljeđe Patricea Lumumbe\, poput jednog od njegovih ključnih radova – Život nakon smrti (Une vie après la mort)  iz 2012. Serija od četrnaest diptiha istražuje alternativnu povijest Konga\, zamišljajući kakav bi život bio da Patrice Lumumba nije ubijen 1961. godine. \nLucija Mulalić aktivistkinja je koja više od deset godina pruža direktnu podršku migrantskim zajednicama\, a zadnjih dvije godine zajedno s Eminom Bužinkić razvija i vodi tematski serijal dijaloških susreta Transnacionalne solidarnosti u klubu MaMa. Završila je Fakultet političkih znanosti u Zagrebu i studirala medijaciju i istraživanje sukoba i mira na Sveučilištu u Tampereu u Finskoj\, gdje se posebno fokusirala na teme panafrikanizma i antikolonijalnih pokreta za vrijeme procesa dekolonizacije afričkog kontinenta. \nSaša Šimpraga je publicist i aktivist. Autor je knjiga o Zagrebu i autor projekta Ulica Patrisa Lumumbe. Cilj projekta je kroz različite formate doprinijeti povratku lika i djela Patricea Lumumbe u kolektivnu memoriju grada\, društva i kulture koja mu je svojevremeno odala počast imenovanjem ulice.
URL:https://dokukino.net/film/lumumba-smrt-proroka/
LOCATION:Dokukino KIC\, Preradovićeva 5
CATEGORIES:Događaj,Dugometražni
ATTACH;FMTTYPE=image/jpeg:https://dokukino.net/wp-content/uploads/2026/02/AFFICHE-Lumumba2.jpg
END:VEVENT
END:VCALENDAR