BEGIN:VCALENDAR
VERSION:2.0
PRODID:-//Dokukino KIC - Kino sa stavom - ECPv6.8.1//NONSGML v1.0//EN
CALSCALE:GREGORIAN
METHOD:PUBLISH
X-ORIGINAL-URL:https://dokukino.net
X-WR-CALDESC:Events for Dokukino KIC - Kino sa stavom
REFRESH-INTERVAL;VALUE=DURATION:PT1H
X-Robots-Tag:noindex
X-PUBLISHED-TTL:PT1H
BEGIN:VTIMEZONE
TZID:UTC
BEGIN:STANDARD
TZOFFSETFROM:+0000
TZOFFSETTO:+0000
TZNAME:UTC
DTSTART:20260101T000000
END:STANDARD
END:VTIMEZONE
BEGIN:VEVENT
DTSTART;TZID=UTC:20260410T210000
DTEND;TZID=UTC:20260410T230000
DTSTAMP:20260424T042945
CREATED:20260404T173648Z
LAST-MODIFIED:20260404T173648Z
UID:26805-1775854800-1775862000@dokukino.net
SUMMARY:Soul in Flames
DESCRIPTION:Soul in Flames  igrani je dokumentarac koji prikazuje uspon i pad legendarne kultne švedske underground diskografske kuće Cold Meat Industry. Film je ispričan iz perspektive enigmatičnog osnivača CMI-ja\, Rogera Karmanika\, vječnog antagonista i umjetnika čija postignuća na više glazbenih scena i dalje desetljećima kasnije izazivaju svjetski interes. \nGodine 1987. Roger Karmanik\, glazbeni veteran švedske industrijske scene\, osnovao je diskografsku kuću Cold Meat Industry. Tijekom sljedećeg desetljeća CMI je izrastao iz projekta strasti u spavaćoj sobi u svjetski poznatu diskografsku kuću. Nadimak “Cold Meat Industry” postao je krovni naziv za bendove vezane uz label\, koji usprkos različitim umjetničkim izričajima dijele zajedničku ekspresivnost i suštinu. Dok je etiketa eksponencijalno rasla\, Karmanikov underground način razmišljanja i metode rada ostali su uglavnom nepromijenjeni. \nDolaskom 2000-ih\, odlaze mnogi umjetnici koji su započeli s CMI-jom. Mučen neuspjesima u privatnom i profesionalnom životu – kao i sve lošijim mentalnim zdravljem – Roger Karmanik se na kraju slomio i 2011. proglasio bankrot. No 2017. obožavatelji iz više od 40 zemalja okupljaju se u Stockholmu kako bi proslavili tridesetu godišnjicu izdavačke kuće i događa se nešto neočekivano. \n  \nNakon projekcije održat će se razgovor sa švedskim glazbenicima Peterom Anderssonom (raison d’être) i Johanom Levinom (Desiderii Marginis) koji su od početka 1990-ih dio etikete Cold Meat Industry. Razgovor će moderirati Miljenko Rajković aka DJ Mary. \nProjekciju donosimo u suradnji s projektom TeHÔM kao uvod u koncert koji će se održati u subotu 11. 4. u KIC-u u sklopu Ambientalike\, večeri posvećene ambijentalnoj glazbi uživo.
URL:https://dokukino.net/film/soul-in-flames/
LOCATION:Dokukino KIC\, Preradovićeva 5
CATEGORIES:Dugometražni
ATTACH;FMTTYPE=image/jpeg:https://dokukino.net/wp-content/uploads/2026/04/Poster-Digital.jpg
END:VEVENT
END:VCALENDAR