BEGIN:VCALENDAR
VERSION:2.0
PRODID:-//Dokukino KIC - Kino sa stavom - ECPv6.8.1//NONSGML v1.0//EN
CALSCALE:GREGORIAN
METHOD:PUBLISH
X-ORIGINAL-URL:https://dokukino.net
X-WR-CALDESC:Events for Dokukino KIC - Kino sa stavom
REFRESH-INTERVAL;VALUE=DURATION:PT1H
X-Robots-Tag:noindex
X-PUBLISHED-TTL:PT1H
BEGIN:VTIMEZONE
TZID:UTC
BEGIN:STANDARD
TZOFFSETFROM:+0000
TZOFFSETTO:+0000
TZNAME:UTC
DTSTART:20260101T000000
END:STANDARD
END:VTIMEZONE
BEGIN:VEVENT
DTSTART;TZID=UTC:20260329T170000
DTEND;TZID=UTC:20260329T183000
DTSTAMP:20260424T053901
CREATED:20260308T130224Z
LAST-MODIFIED:20260308T130533Z
UID:26620-1774803600-1774809000@dokukino.net
SUMMARY:U potrazi za Amani
DESCRIPTION:U srcu Kenije tragedija se nadvija nad životom jednog dječaka. Trinaestogodišnji Simon Ali biva bačen u svijet misterije kada njegov otac\, cijenjeni vodič za očuvanje prirode\, bude pronađen mrtav pod sumnjivim okolnostima. Naoružani videokamerom i nepokolebljivom željom za istinom\, Simon i njegov najbolji prijatelj Haron kreću na opasno putovanje kako bi otkrili tajne koje stoje iza očeve smrti. Riječ amani na svahilskom jeziku znači mir i to je posljednja riječ koju je njegov otac izrekao prije smrti. \nSimona pratimo tijekom četiri godine njegove potrage za odgovorima\, dok zemljom oko njega haraju posljedice klimatskih promjena\, strahovite suše\, požari i konflikti. U istraživanju života i smrti Simonova oca nastaje nijansirani razgovor o okolišu koji se mijenja\, konzervaciji prirode i zajednici u vrijeme krize. \n  \nFestivali i nagrade: \nTRIBECA FILM FESTIVAL 2024 – Nagrada Albert Maysles / RAINDANCE FILM FESTIVAL 2024 – Nagrada Raindance / CALGARY INT’L FILM FESTIVAL 2024 / DOKUFEST 2024 / BELDOCS 2025 \n 
URL:https://dokukino.net/film/u-potrazi-za-amani/
LOCATION:Dokukino KIC\, Preradovićeva 5
ATTACH;FMTTYPE=image/jpeg:https://dokukino.net/wp-content/uploads/2026/03/MV5BMWY2NTVhYzMtY2YwNC00NTdlLTk1MTgtMWUyMmIyMjE2MDI2XkEyXkFqcGc@._V1_.jpg
END:VEVENT
BEGIN:VEVENT
DTSTART;TZID=UTC:20260329T190000
DTEND;TZID=UTC:20260329T210000
DTSTAMP:20260424T053901
CREATED:20260308T123802Z
LAST-MODIFIED:20260308T123802Z
UID:26611-1774810800-1774818000@dokukino.net
SUMMARY:Retrospektiva Petera Watkinsa: Gladijatori
DESCRIPTION:U bliskoj budućnosti čelnici vodećih svjetskih sila na Istoku i Zapadu\, umjesto vojskom i nuklearnim oružjem\, rat odlučuju voditi s pomoću ekipa mladih vojnika u tzv. Međunarodnim mirovnim igrama. Pripadnici sukobljenih strana sudjeluju u kontroliranim vizijama ratnih bitaka\, koje se prenose na televizijskim programima diljem svijeta\, u stilu reality-emisija. Gladijatori se fokusiraju na igru br. 254 u kojoj sudjeluju vojnici Velike Britanije i Kine\, koja se odvija u blizini Stockholma\, dok sve zabilježava računalo ICARUS. Distopijska futuristička drama predstavlja intenzivnu satiru u jeku prosvjeda protiv rata u Vijetnamu; u Watkinsonovoj viziji (post)ratnog svijeta vladajući sve promatraju uz ugodan razgovor i šalice čaja\, dok vojnici gube živote. Mada njegove snažne autorske vizije u to vrijeme nisu naišle na dobru recepciju\, Watkinsonov opus u cjelini doživljava revolarizaciju kao aktualan i „ispred svoga vremena“. \nFilm se prikazuje u okviru retrospektivnog programa posvećenog britanskom filmskom i televizijskom redatelju Peteru Watkinsu koji je umro u listopadu 2025. godine.
URL:https://dokukino.net/film/retrospektiva-petera-watkinsa-gladijatori/
LOCATION:Dokukino KIC\, Preradovićeva 5
ATTACH;FMTTYPE=image/jpeg:https://dokukino.net/wp-content/uploads/2026/03/gladijatori-poster.jpg
END:VEVENT
END:VCALENDAR