BEGIN:VCALENDAR
VERSION:2.0
PRODID:-//Dokukino KIC - Kino sa stavom - ECPv6.8.1//NONSGML v1.0//EN
CALSCALE:GREGORIAN
METHOD:PUBLISH
X-WR-CALNAME:Dokukino KIC - Kino sa stavom
X-ORIGINAL-URL:https://dokukino.net
X-WR-CALDESC:Events for Dokukino KIC - Kino sa stavom
REFRESH-INTERVAL;VALUE=DURATION:PT1H
X-Robots-Tag:noindex
X-PUBLISHED-TTL:PT1H
BEGIN:VTIMEZONE
TZID:UTC
BEGIN:STANDARD
TZOFFSETFROM:+0000
TZOFFSETTO:+0000
TZNAME:UTC
DTSTART:20260101T000000
END:STANDARD
END:VTIMEZONE
BEGIN:VEVENT
DTSTART;TZID=UTC:20260328T170000
DTEND;TZID=UTC:20260328T183000
DTSTAMP:20260424T055227
CREATED:20260302T223139Z
LAST-MODIFIED:20260328T100812Z
UID:26520-1774717200-1774722600@dokukino.net
SUMMARY:Lula
DESCRIPTION:Luiz Inácio “Lula” da Silva prvi je predsjednik Brazila koji je na vlast doveo ljevicu. Bivši metalac\, član radničkog sindikalnog pokreta i jedan od ključnih aktera u borbi protiv vojne diktature u Brazilu\, vratio se na vlast u siječnju 2023. godine pobijedivši kontroverznog Bolsonara. Intiman i razotkrivajući portret jedne od najutjecajnijih političkih figura današnjice\, Lula istražuje uspon\, pad i trijumfalni povratak voljenog brazilskog lidera na predsjedničku poziciju nakon što je proveo 19 mjeseci u zatvoru. \nUz dosad neviđen pristup Luli i njegovim najbližim savjetnicima\, Oliver Stone baca novo svjetlo na karizmatičnog političara kroz niz necenzuriranih intervjua te otkriva unutarnju priču „Operacije Autopraonica“ zajedno s hakerom i novinarom Snowden Filesa čije je izvještavanje dovelo do Lulina oslobađanja iz zatvora. \nAktualan i snažan\, film je upozoravajuća priča o rastućoj opasnosti koju „lawfare“ predstavlja za demokracije diljem svijeta te ujedno analiza jednog od najvećih političkih povrataka našeg vremena. \nAko se ne prikazuje prodaja karata\, kliknite ovdje. \nFestivali i nagrade: \nCANNES FILM FESTIVAL 2024 (svjetska premijera); DOCLISBOA 2024; BUSAN INTERNATIONAL FILM FESTIVAL 2024; BERGEN INTERNATIONAL FILM FESTIVAL 2024; DOKUFEST 2024 \nRecenzije: \n„U ovaj film možete ući bez ikakvog znanja o postojanju Lule da Silve\, a izaći s osjećajem da ste dobro shvatili njegovu priču.” – Stephanie Bunbury\, Deadline \n„Dokumentarni film o aktualnom brazilskom predsjedniku Luli\, u režiji američkog redatelja Olivera Stonea\, premijerno je prikazan na Filmskom festivalu u Cannesu… i izazvao je četiri minute neprekidnog aplauza…” – Raquel Carneiro\, Veja \n  \nOliver Stone poznat je kao majstor kontroverznih tema i legendarni redatelj. Rođen je 1946. godine u New Yorku\, služio je u Vijetnamskom ratu te je za to dobio značajna vojna odličja. Karijeru je započeo kao scenarist na filmovima poput “Midnight Express” (1978)\, “Conan the Barbarian” (1982) i “Scarface” (1983). Proslavio se filmovima “Platoon” (1986)\, “Wall Street” (1987) i “Born on the Fourth of July” (1989)\, za koje je osvojio tri Oscara. Režirao je kontroverzni kriminalistički film “Natural Born Killers” (1994)\, kao i predsjedničke biografske filmove “Nixon” (1995) i “W.” (2008). U filmu “JFK2 (1991) doveo je u pitanje službenu verziju atentata na Kennedyja\, dok je u ambicioznom epu “Alexander” (2004) istraživao život Aleksandra Velikog. Također je poznat po političkim dokumentarcima poput “South of the Border” (2009) i serijalu “The Untold History of the United States” (2012). On je simbol kontroverze\, inovacije i utjecaja u Hollywoodu. \nRobert Rob Wilson zaljubio se u dokumentarni film radeći na Oliver Stoneovu portretu Fidela Castra iz 2003. godine\, “Comandante”. Ubrzo nakon toga producirao je dokumentarce o legendarnim redateljima Johnu Fordu i Howardu Hawksu\, kao i film o planiranju i izgradnji Disneylanda. Godine 2012. Rob je producirao “The Untold History of the United State”s\, desetodijelnu dokumentarnu seriju Olivera Stonea.
URL:https://dokukino.net/film/lula-2026-03-22/2026-03-28/
LOCATION:Dokukino KIC\, Preradovićeva 5
ATTACH;FMTTYPE=image/jpeg:https://dokukino.net/wp-content/uploads/2026/03/Lula_PlakatB1-EKRANpng.jpg
END:VEVENT
BEGIN:VEVENT
DTSTART;TZID=UTC:20260328T190000
DTEND;TZID=UTC:20260328T210000
DTSTAMP:20260424T055227
CREATED:20260308T122825Z
LAST-MODIFIED:20260308T122825Z
UID:26600-1774724400-1774731600@dokukino.net
SUMMARY:Retrospektiva Petera Watkinsa: Privilegij
DESCRIPTION:U tada bliskoj budućnosti 1970-ih u Engleskoj Stevena Shortera\, deziluzioniranog pop-pjevača\, obožavaju svi. Na pozornici se ukazuje u ćeliji\, s lisicama\, a policija ga mlati; njegov nastup pažljivo je izorkestrirana popularna zabava čiji je cilj suzbiti političku aktivnost kod mladih. Na vlasti je koalicijska vlada koja od građana želi napraviti bezumne potrošače\, uz pomoć komodifikacije Shorterova lika i djela. Od njega se pokušava napraviti svojevrsni mesija koji će pojačati osjećaj nacionalnog jedinstva. No kada upozna buntovnu slikaricu Vanessu Ritchie\, autoricu njegova budućeg portreta\, njezina ga buntovnost navodi na preispitivanje. \nU ovoj satiričnoj glazbenoj drami glume i profesionalni i amaterski glumci\, a glavnu ulogu tumači Paul Jones\, frontman rock-benda Manfred Mann. Privilegij anticipira pojavu ‘reality’ televizijskog formata; Shorter je lik koji treba otrgnuti rock iz ralja kontrolirane (bez)sadržajnosti i u njega vratiti oštricu koja ga definira. Watkinsonove vizije budućnosti u to su doba bile stravične i skandalozne\, a nažalost\, više od pola stoljeća kasnije\, ne gube na relevantnosti. \nFilm se prikazuje u okviru retrospektivnog programa posvećenog britanskom filmskom i televizijskom redatelju Peteru Watkinsu koji je umro u listopadu 2025. godine.
URL:https://dokukino.net/film/retrospektiva-petera-watkinsa-privilegij/
LOCATION:Dokukino KIC\, Preradovićeva 5
ATTACH;FMTTYPE=image/jpeg:https://dokukino.net/wp-content/uploads/2026/03/privilege-watkins.jpg
END:VEVENT
END:VCALENDAR