BEGIN:VCALENDAR
VERSION:2.0
PRODID:-//Dokukino KIC - Kino sa stavom - ECPv6.8.1//NONSGML v1.0//EN
CALSCALE:GREGORIAN
METHOD:PUBLISH
X-WR-CALNAME:Dokukino KIC - Kino sa stavom
X-ORIGINAL-URL:https://dokukino.net
X-WR-CALDESC:Events for Dokukino KIC - Kino sa stavom
REFRESH-INTERVAL;VALUE=DURATION:PT1H
X-Robots-Tag:noindex
X-PUBLISHED-TTL:PT1H
BEGIN:VTIMEZONE
TZID:UTC
BEGIN:STANDARD
TZOFFSETFROM:+0000
TZOFFSETTO:+0000
TZNAME:UTC
DTSTART:20260101T000000
END:STANDARD
END:VTIMEZONE
BEGIN:VEVENT
DTSTART;TZID=UTC:20260320T190000
DTEND;TZID=UTC:20260320T223000
DTSTAMP:20260424T053648
CREATED:20260312T110213Z
LAST-MODIFIED:20260312T110213Z
UID:26649-1774033200-1774045800@dokukino.net
SUMMARY:Hall of Fame: Kocka\, bogovi i LSD
DESCRIPTION:Autorova potraga za transcendencijom pretvara se u trosatno putovanje diljem različitih zemalja\, kultura i vremena. Od prizora iz djetinjstva u Torontu redatelj Mettler kreće na putovanje na kojem ga čekaju evangelizam na aerodromskoj pisti\, rušenje u Las Vegasu\, upoznavanje pustinje u Nevadi\, kemija i ulični život u Švicarskoj te supostojanje tehnologije i božanskoga u suvremenoj Indiji. Duž cijelog puta nailazimo na iste teme: lov na uzbuđenje\, sreća\, sudbina\, vjera\, širenje vidika\, žudnja za sigurnošću u neizvjesnu svijetu. Činjenice se stapaju s maštom; potraga za značenjem i potraga za ekstazom počinju se preklapati. Intuitivno\, vizionarsko putovanje te lucidan i osoban prikaz našeg doba. Kocka\, bogovi i LSD mogao bi vam promijeniti pogled na svijet. \n„Živimo u vrijeme u kojem stvari kao da ne postoje ako ih ne možemo obuhvatiti u slici\,“ izjavio je jednom prilikom kanadsko-švicarski audiovizualni umjetnik Peter Mettler\, koji je posvetio život istraživanju neslućenih mogućnosti filmskog medija i ljudske percepcije. No kako pretvoriti misao u sliku i pokazati ono što ne vidimo? Mettlerove celuloidne vizije pomoću optičkih iluzija\, intuitivnog nizanja slika i nepredvidljivih raslojavanja perspektiva tvore jedinstveno filmsko vrijeme-prostor i hipnotičko osjetilno iskustvo. Ovaj filmski avanturist u svojoj polustoljetnoj potrazi za „čuđenjem u svijetu“ ne ustručava se posredstvom filmskih slika istražiti ključna filozofska pitanja koja su oblikovala našu civilizaciju. Na tom velebnom pothvatu odgovori mu izmiču ali zato bujaju inventivni vizualni i narativni pristupi. Život se pak posredstvom filma razotkriva kao nedokučivi eksperiment u kojem svi sudjelujemo. \nTijekom svoje opsežne karijere\, Peter Mettler stvarao je filmove za koje se smatralo da ih je nemoguće snimiti\, ali koji su rado cijenjeni nakon što postoje. Nemirni filmski pustolov\, Mettlerov opus karakteriziraju hibridne forme i osjećaj čuđenja. Često posjećujući teme transcendencije i odnosa prirode i tehnologije\, Mettlerovi filmovi kombiniraju putopis\, esej\, intervju\, fikciju i kritiku. Vođeni su instinktom\, ali utemeljeni na disciplini\, strukturi\, umijeću i sposobnosti za snimanje zadivljujućih slika i velikih priča. Mettlerov rad ima jedinstvenu poziciju ne samo zbog svojih inovacija u području dokumentarnog filma\, već i u novim umjetničkim formama u kojima se film spaja s drugim disciplinama. Među njegovim suradnicima su David Abram i Emma Davie\, Atom Egoyan\, Bruce McDonald\, Fred Frith\, Robert Lepage\, Jim O’Rourke\, Jennifer Baichwal\, Edward Burtynsky i Jeremy Narby. Mettlerovi filmovi bili su u središtu više retrospektiva\, uključujući BAFICI\, Lincoln Centre\, Jeu de Paume Paris i Cinematheque Suisse\, te su dobili nagrade od TIFF-a\, Akademije kanadske kinematografije\, Locarno Film Festivala\, Visions du Réel i Hot Docs. \nUvodnu riječ u film održat će redatelj Ivan Ramljak. \n  \nHall of Fame – vodič kroz povijest dokumentarnog filma serija je predstavljanja najznačajnijih dokumentaraca koji su svojim inovativnim pristupom utjecali na razvoj dokumentarizma. Bez sunca prikazujemo u sklopu ciklusa Filmski putopisi.
URL:https://dokukino.net/film/hall-of-fame-kocka-bogovi-i-lsd/
LOCATION:Dokukino KIC\, Preradovićeva 5
ATTACH;FMTTYPE=image/jpeg:https://dokukino.net/wp-content/uploads/2026/03/Hall-fo-Fame_Gambling_plakat-B2.jpg
END:VEVENT
END:VCALENDAR