BEGIN:VCALENDAR
VERSION:2.0
PRODID:-//Dokukino KIC - Kino sa stavom - ECPv6.8.1//NONSGML v1.0//EN
CALSCALE:GREGORIAN
METHOD:PUBLISH
X-ORIGINAL-URL:https://dokukino.net
X-WR-CALDESC:Events for Dokukino KIC - Kino sa stavom
REFRESH-INTERVAL;VALUE=DURATION:PT1H
X-Robots-Tag:noindex
X-PUBLISHED-TTL:PT1H
BEGIN:VTIMEZONE
TZID:UTC
BEGIN:STANDARD
TZOFFSETFROM:+0000
TZOFFSETTO:+0000
TZNAME:UTC
DTSTART:20260101T000000
END:STANDARD
END:VTIMEZONE
BEGIN:VEVENT
DTSTART;TZID=UTC:20260314T170000
DTEND;TZID=UTC:20260314T190000
DTSTAMP:20260424T055432
CREATED:20260208T135649Z
LAST-MODIFIED:20260208T135649Z
UID:26484-1773507600-1773514800@dokukino.net
SUMMARY:Kako pronaći djevojku u Kini
DESCRIPTION:U zemlji u kojoj ima znatno više muškaraca tri neoženjena muškarca pridružuju se intenzivnom sedmodnevnom kampu za upoznavanje koji vodi jedan od najtraženijih kineskih trenera za upoznavanje. Ovo bi mogao biti njihov posljednji pokušaj da pronađu ljubav. Tržište ljubavi i braka izrazito je kompetitivno\, dodatno otežano desetljećima politike jednoga djeteta. U takvome društvu veliku ulogu igraju imidž\, društveni status i zarada. Tri protagonista nemaju drugoga izbora nego slijediti upute njihovog trenera; dok ih on uči prepredenim tehnikama zavođenja\, njegov se brak počinje raspadati. Kako pronaći djevojku u Kini zabavan je\, apsurdan koliko i dirljiv pogled u ljubav i rodne uloge u suvremenoj Kini. \nAko se ne prikazuje prodaja karata u nastavku\, kliknite ovdje. \nFestivali i nagrade: \nSUNDANCE 2025 / MIAMI FILM FESTIVAL 2025 / SAN FRANCISCO INT’L FF 2025 / ZURICH FILM FESTIVAL 2025 / CPH:DOX 2025 / THESSALONIKI INT’L DOCUMENTARY FESTIVAL 2025 / DOCUMENTARY EDGE 2025 – posebno priznanje\, najbolji međunarodni redatelj (DocEdge Award) \nRecenzije: \n“Šarena i bujna fasada filma The Dating Game prikriva sumornu\, distopijsku realnost” Bilge Ebiri\, Vulture \n“Poučan uvid u jednu moćnu državu suočenu s mukama nadolazeće kulturne katastrofe i nekolicine muškaraca u očajničkoj potrazi za ljubavi” Nick Schager\, The Daily Beast
URL:https://dokukino.net/film/kako-pronaci-djevojku-u-kini/2026-03-14/
LOCATION:Dokukino KIC\, Preradovićeva 5
CATEGORIES:Dugometražni
ATTACH;FMTTYPE=image/jpeg:https://dokukino.net/wp-content/uploads/2026/02/dating-game-poster.jpg
END:VEVENT
BEGIN:VEVENT
DTSTART;TZID=UTC:20260314T190000
DTEND;TZID=UTC:20260314T210000
DTSTAMP:20260424T055432
CREATED:20260210T110705Z
LAST-MODIFIED:20260210T110705Z
UID:26481-1773514800-1773522000@dokukino.net
SUMMARY:Neobično putovanje: Priča o Rockyju Horroru
DESCRIPTION:Kultni mjuzikl Rocky Horror Picture Show (1975.) krenuo je kao niskobudžetna predstava u underground londonskom kazalištu da bi se ubrzo prometnuo u jedan od najgledanijih midnight movies i najvećih fenomena pop kulture. Od skromnih početaka preko strelovitog uspona do transgresivnog nasljeđa\, jubilejni dokumentarac istražuje što već pola stoljeća čini predstavu i film tako jedinstvenima: legendarne izvedbe\, upečatljive pjesme\, beskompromisno slavljenje kvir estetike i drag kulture te poigravanje s tradicionalnim rodnim ulogama. Projekcije Rocky Horror Picture Showa poznate su kao jedinstveno i interaktivno iskustvo koje prate shadow casts\, drag nastupi i kostimirani natječaji za publiku čime se kroz povijest osnaživala LGBTQ zajednica. Dokumentarac uključuje intervjue s članovima originalne glumačke postave poput Tima Curryja\, oskarovke Susan Sarandon\, Barryja Bostwicka\, Patricije Quinn i Nell Campbell te slavnim fanovima poput Jacka Blacka i pobjednice RuPaul’s Drag Race Trixie Mattel koji dijele osobne refleksije o dugotrajnom kulturnom utjecaju Rocky Horrora. \nAko se ne prikazuje prodaja karata niže\, kliknite ovdje. \n 
URL:https://dokukino.net/film/8-arteria-neobicno-putovanje-prica-o-rockyju-horroru-2026-03-01/2026-03-14/
LOCATION:Dokukino KIC\, Preradovićeva 5
CATEGORIES:Dugometražni
ATTACH;FMTTYPE=image/jpeg:https://dokukino.net/wp-content/uploads/2026/02/MV5BMGQ0YzBjZjYtMjQ2YS00Y2Q3LWEzMTEtMTJjNzMwNWY0MTkxXkEyXkFqcGc@._V1_.jpg
END:VEVENT
END:VCALENDAR