BEGIN:VCALENDAR
VERSION:2.0
PRODID:-//Dokukino KIC - Kino sa stavom - ECPv6.8.1//NONSGML v1.0//EN
CALSCALE:GREGORIAN
METHOD:PUBLISH
X-ORIGINAL-URL:https://dokukino.net
X-WR-CALDESC:Events for Dokukino KIC - Kino sa stavom
REFRESH-INTERVAL;VALUE=DURATION:PT1H
X-Robots-Tag:noindex
X-PUBLISHED-TTL:PT1H
BEGIN:VTIMEZONE
TZID:UTC
BEGIN:STANDARD
TZOFFSETFROM:+0000
TZOFFSETTO:+0000
TZNAME:UTC
DTSTART:20260101T000000
END:STANDARD
END:VTIMEZONE
BEGIN:VEVENT
DTSTART;TZID=UTC:20260313T190000
DTEND;TZID=UTC:20260313T203000
DTSTAMP:20260424T054727
CREATED:20260302T214649Z
LAST-MODIFIED:20260302T220351Z
UID:26488-1773428400-1773433800@dokukino.net
SUMMARY:Chantal Akerman: Moja majka se smije (predstavljanje video-instalacije i knjige)
DESCRIPTION:Pozivamo vas na predstavljanje hrvatskog izdanja knjige Chantal Akerman Moja majka se smije (2025). Izdavač knjige je udruga Bijeli val a dizajn potpisuje Dejan Dragosavac Ruta. Na predstavljanju knjige\, u 19:30 sati\, govorit će urednica Dina Pokrajac\, prevoditeljica Milena Ostojić i profesorica Leonida Kovač. \nPredstavljanju knjige prethodi predstavljanje video-instalacije Moja majka se smije\, preludij (2012\, 27’16”)\, u 19 sati\, a kasnije\, u 20:30\, prikazat ćemo i kultni film redateljice No Home Movie (2015\, 115′). \n  \nRedateljici Chantal Akerman 2013. umirala je majka. Doletjela je iz New Yorka u Bruxelles kako bi se brinula za nju\, a između odijevanja\, hranjenja i stavljanja u krevet\, napisala je ovaj kratki roman. Pisala je o svom djetinjstvu\, bijegu njezine majke iz Auschwitza\, o kojem nikad nije pričala\, problemima u odnosu sa svojom djevojkom C.\, svom strahu što će učiniti kad joj majka umre. Između tih nesavršeno savršenih fragmenata zapisa o vlastitom životu smjestila je fotograme iz svojih filmova. Moja majka se smije dnevnička je destilacija tema kojima se Akerman bavila tijekom svog kreativnog života i izlaganje najjednostavnije i najkompliciranije ljubavne priče od svih: one između majke i kćeri. U maniri svojih „hiperealističnih“ filmova Akerman piše ove memoare buntovnim i eksperimentalnim stilom koji svojom jednostavnošću\, repeticijom i oskudnom interpunkcijom asocira na Gertrude Stein a ostali književni srodnici koje priziva su Dnevnik korote Rolanda Barthesa i Vrlo blaga smrt Simone de Beauvoir. Praktički svi njeni filmovi koji govore o licima\, ujedno su i filmovi u prvom licu. Ali govoriti u prvom licu ne znači biti narcisoidan\, već dijeliti sa svima ono najdublje i najintimnije. Ova priča o majčinstvu\, paradoksu bolesti i jezika nastala je gotovo istovremeno kad i njezin posljednji film No Home Movie. No bilo bi pogrešno u njima iščitavati elaboriranu suicidalnu poruku. U pitanju je važan dokument za daljnju recepciju i interpretaciju opusa Chantal Akerman koji produbljuje mnoge kompleksne niti koje čine tkanje njezinih filmova. \n  \n  \nChantal Akerman: Moja majka se smije\, preludij (2012\, video-instalacija\, boja\, zvuk\, u petlji\, 27’16”) \nZvuk: glas Chantal Akerman koja na engleskom čita odlomak iz svoje knjige Moja majka se smije (Ma mère rit\, izvorno objavljeno na francuskom\, izdavač Mercure de France\, biblioteka “Traits et portraits”\, Pariz\, 2013.) \nmontaža slike/zvuka i prostorna koncepcija : Claire Atherton \nZahvaljujemo Chantal Akerman Foundation i Marian Goodman Gallery.  \nOtvorenje 13. 3. u 19 h  | Izložba je otvorena do 27.3.2026. \nGalerija na katu (KIC)\, Preradovićeva 5\, Zagreb \nMoja majka se smije\, preludij je performativno čitanje bazirano na knjizi Moja majka se smije Chantal Akerman. Kći poljskih Židova koji su preživjeli Auschwitz i pronašli utočište u Belgiji\, Akerman je od samog početka bila opsjednuta prostorom doma te je oduvijek tragala za osjećajem „pripadanja“ iako je često izjavljivala kako nigdje ne pripada. Njena emocionalna kartografija podrazumijevala je napetost između apstraktne evokacije i konkretnih elemenata svakodnevice. Dom je pak utjelovljivao središnjicu njene prakse – drevni a opet iznimno moderan pojam koji je u mnogim njenim filmovima postao poprište za ultimativni teatar samoće. \n  \nChantal Akerman (1950-2015) bila je belgijska redateljica\, scenaristica\, glumica i producentica\, umjetnica i profesorica filma. Imala je samo 18 godina kada je snimila svoj prvi film\, Raznesi moj grad (1968)\, koji je zahvaljujući svom crnom humoru i anarhičnoj energiji postao antologijskim ostvarenjem kratkog metra. Nakon toga snimila je još četrdesetak filmskih i TV radova različitih vrsta\, žanrova i formata\, u rasponu od strukturalističkih i epistolarnih eseja pa sve do mjuzikala i slapstick komedija. Njezin najpoznatiji film\, Jeanne Dielmann\, 23 Commerce Quay\, 1080 Bruxelles (1975)\, često se nalazi na popisima najboljih filmova svih vremena\, a uvrštava ga se među pionirske uratke feminističkog filma i estetike slow cinema. Akerman je samouka redateljica: filmsku akademiju INSAS u Bruxellesu napustila je nakon svega tri mjeseca studija\, a svoje formativne godine provela je u avangardnim i modernističkim krugovima New Yorka 1970-ih. Njene filmove karakteriziraju reducirani filmski jezik i stilski minimalizam\, korištenje trajanja kao izražajnog sredstva\, opservacijske metode snimanja te fluidan odnos prema identitetu i seksualnosti.
URL:https://dokukino.net/film/chantal-akerman-moja-majka-se-smije-predstavljanje-video-instalacije-i-knjige/
LOCATION:Dokukino KIC\, Preradovićeva 5
ATTACH;FMTTYPE=image/jpeg:https://dokukino.net/wp-content/uploads/2026/03/Chantal-Akerman-Moja-majka-se-smije_-naslovnica-knjige.jpg
END:VEVENT
BEGIN:VEVENT
DTSTART;TZID=UTC:20260313T203000
DTEND;TZID=UTC:20260313T223000
DTSTAMP:20260424T054727
CREATED:20260302T215536Z
LAST-MODIFIED:20260302T215822Z
UID:26492-1773433800-1773441000@dokukino.net
SUMMARY:No Home Movie
DESCRIPTION:“Ovaj film je prije svega o mojoj majci koja više nije s nama. O ženi koja je 1938. godine iz Poljske došla u Belgiju\, bježeći od nasilja\, progona i rata. I o ženi koju vidimo isključivo unutar njenog briselskog stana. Film o današnjem svijetu u pokretu koji moja majka ne vidi.” (Chantal Akerman) \nPosljednji film Chantal Akerman u isto vrijeme je izrazito trezven i duboko dirljiv portret majke\, poljske Židovke koja je preživjela Auschwitz i bolovala od kronične anksioznosti. Akerman je snima u posljednjim mjesecima života\, koji se uglavnom svode na vrijeme provedeno u njenom briselskom domu. Ispod naizgled uobičajenih\, svakodnevnih razgovora snimanih “kućnom” kamerom niske rezolucije\, Skypeom ili mobitelom izvire bujica emocija koja upućuje na svu kompleksnost odnosa majke i kćeri. Akerman tako spojem fikcije\, adaptacije\, dokumentarnog i film-eseja stvara i specifičan dijalog s najznačajnijim punktovima vlastite filmografije\, bilježeći još jednom mirnu rutinu nevidljive žene\, ovaj puta osobnije no ikad. \n  \nPrije samog filma\, u 19 sati\, održat će se predstavljanje video-instalacije Chantal Akerman: Moja majka se smije\, preludij (2012\, 27’16”) i\, u 19.30 sati\, predstavljanje hrvatskog izdanja knjige Chantal Akerman Moja majka se smije (2025\, u prijevodu Milene Ostojić) . \nChantal Akerman (1950-2015) bila je belgijska redateljica\, scenaristica\, glumica i producentica\, umjetnica i profesorica filma. Imala je samo 18 godina kada je snimila svoj prvi film\, Raznesi moj grad (1968)\, koji je zahvaljujući svom crnom humoru i anarhičnoj energiji postao antologijskim ostvarenjem kratkog metra. Nakon toga snimila je još četrdesetak filmskih i TV radova različitih vrsta\, žanrova i formata\, u rasponu od strukturalističkih i epistolarnih eseja pa sve do mjuzikala i slapstick komedija. Njezin najpoznatiji film\, Jeanne Dielmann\, 23 Commerce Quay\, 1080 Bruxelles (1975)\, često se nalazi na popisima najboljih filmova svih vremena\, a uvrštava ga se među pionirske uratke feminističkog filma i estetike slow cinema. Akerman je samouka redateljica: filmsku akademiju INSAS u Bruxellesu napustila je nakon svega tri mjeseca studija\, a svoje formativne godine provela je u avangardnim i modernističkim krugovima New Yorka 1970-ih. Njene filmove karakteriziraju reducirani filmski jezik i stilski minimalizam\, korištenje trajanja kao izražajnog sredstva\, opservacijske metode snimanja te fluidan odnos prema identitetu i seksualnosti.
URL:https://dokukino.net/film/no-home-movie/
LOCATION:Dokukino KIC\, Preradovićeva 5
ATTACH;FMTTYPE=image/jpeg:https://dokukino.net/wp-content/uploads/2026/03/MV5BMjA4Mjk5ODI2NV5BMl5BanBnXkFtZTgwOTg5ODA1ODE@._V1_.jpg
END:VEVENT
END:VCALENDAR