BEGIN:VCALENDAR
VERSION:2.0
PRODID:-//Dokukino KIC - Kino sa stavom - ECPv6.8.1//NONSGML v1.0//EN
CALSCALE:GREGORIAN
METHOD:PUBLISH
X-ORIGINAL-URL:https://dokukino.net
X-WR-CALDESC:Events for Dokukino KIC - Kino sa stavom
REFRESH-INTERVAL;VALUE=DURATION:PT1H
X-Robots-Tag:noindex
X-PUBLISHED-TTL:PT1H
BEGIN:VTIMEZONE
TZID:UTC
BEGIN:STANDARD
TZOFFSETFROM:+0000
TZOFFSETTO:+0000
TZNAME:UTC
DTSTART:20260101T000000
END:STANDARD
END:VTIMEZONE
BEGIN:VEVENT
DTSTART;TZID=UTC:20260305T190000
DTEND;TZID=UTC:20260305T210000
DTSTAMP:20260424T054651
CREATED:20251126T220804Z
LAST-MODIFIED:20260420T123228Z
UID:26366-1772737200-1772744400@dokukino.net
SUMMARY:Ono što treba činiti
DESCRIPTION:Bivši električar\, socijalna radnica i sindikalni aktivist formiraju savez na naizgled nemogućem zadatku. Dok današnja Europa počiva na jeftinom radu migrantskih radnika\, sami radnici u potrazi za boljim životom pristaju na loše uvjete rada\, prekovremene sate\, spavanje u kontejnerima\, ucjene poslodavaca i poništavanje vlastitog dostojanstva. Laura Orel\, Goran Lukić i Goran Zrnić i njihovo Radničko savjetovalište iz Ljubljane (Delavska svetovalnica) – njihova su jedina adresa\, jedini saveznici. Bilo da su u pitanju radnici sa Balkana\, Afrike ili Azije\, u ovoj neobičnoj organizaciji\, oni svakodnevno traže pomoć\, prevareni i gladni\, bez zarađenih plaća i bez nade u bolje sutra. Ovo je priča o naličju suvremene Europe\, ali i pravom sindikalnom radu\, o mogućnostima i ograničenjima tog rada i nesebičnoj solidarnosti koja je uprkos svemu moguća. \nAko se ne prikazuje prodaja karata\, kliknite ovdje. \nFestivali i nagrade:  \nDOK Leipzig 2025. – nagrada interreligijskog žirija / HUMAN RIGHTS FILM FESTIVAL 2025 \nRecenzije: \n“Vrlo je to uspješan način angažiranja koji od filma doista čini važan politički alat\, ali ne takav koji će agitirati za neku ideju\, nego onaj koji politički djeluje samim filmskim jezikom.” Filip Kučeković\, Kulturpunkt.hr \n“The portrait built up here in a modestly observational but utterly devastating manner is one of cross-border exploitation that is just a small prism of a much wider phenomenon of global capital and #neocolonialism\, where labour power from a so-called #Third World# props up the wealth of the richest nations\, draining bodies and minds while denying their intrinsic value.” Carmen Gray\, Modern Times
URL:https://dokukino.net/film/ono-sto-treba-ciniti-2/2026-03-05/
LOCATION:Dokukino KIC\, Preradovićeva 5
CATEGORIES:Dugometražni
ATTACH;FMTTYPE=image/jpeg:https://dokukino.net/wp-content/uploads/2025/11/w3m1qel45ailvbutsacg85azywwei1xz.jpg
END:VEVENT
END:VCALENDAR