BEGIN:VCALENDAR
VERSION:2.0
PRODID:-//Dokukino KIC - Kino sa stavom - ECPv6.8.1//NONSGML v1.0//EN
CALSCALE:GREGORIAN
METHOD:PUBLISH
X-ORIGINAL-URL:https://dokukino.net
X-WR-CALDESC:Events for Dokukino KIC - Kino sa stavom
REFRESH-INTERVAL;VALUE=DURATION:PT1H
X-Robots-Tag:noindex
X-PUBLISHED-TTL:PT1H
BEGIN:VTIMEZONE
TZID:UTC
BEGIN:STANDARD
TZOFFSETFROM:+0000
TZOFFSETTO:+0000
TZNAME:UTC
DTSTART:20260101T000000
END:STANDARD
END:VTIMEZONE
BEGIN:VEVENT
DTSTART;TZID=UTC:20260301T170000
DTEND;TZID=UTC:20260301T190000
DTSTAMP:20260424T053908
CREATED:20260210T102855Z
LAST-MODIFIED:20260412T082226Z
UID:26321-1772384400-1772391600@dokukino.net
SUMMARY:Orwell 2+2=5
DESCRIPTION:Godine 1949. George Orwell dovršava svoj posljednji\, ali i najvažniji roman – 1984. Film Orwell: 2+2=5 uranja u njegove posljednje mjesece i vizionarsko stvaralaštvo\, istražujući korijene ključnih i uznemirujućih pojmova koje je otkrio svijetu u svom distopijskom remek-djelu: dvomisao\, misaoni zločin\, novogovor\, sveprisutni lik Velikog Brata… To su uznemirujuće društveno-političke istine koje danas odjekuju snažnije nego ikad. Polemičan i košmaran dokumentarni film kroz arhivske snimke i refleksivnu naraciju povezuje Orwellovu biografiju s današnjim mehanizmima moći i dezinformacije. Inteligentno i snažno ostvarenje koje aktualizira njegovo nasljeđe i opominje na suvremene oblike kontrole. \nAko se ne prikazuje prodaja karata niže\, kliknite ovdje. \nFestivali i nagrade: \nCANNES FILM FESTIVAL 2025 / SAN SEBASTIÁN INT’L FF 2025 / STOCKHOLM FILM FESTIVAL 2025 / CRITICS’ CHOICE DOCUMENTARY AWARDS 2025 – nagrada za najbolju glazbu i najbolju naraciju
URL:https://dokukino.net/film/8-arteria-orwell-225-2/2026-03-01/
LOCATION:Dokukino KIC\, Preradovićeva 5
CATEGORIES:Dugometražni
ATTACH;FMTTYPE=image/jpeg:https://dokukino.net/wp-content/uploads/2026/02/MV5BMTdkNTNhMGItYTQ3Mi00ZWIwLTlkNzYtYjgwYTM2ODM4ZThkXkEyXkFqcGc@._V1_FMjpg_UX1000_.jpg
END:VEVENT
BEGIN:VEVENT
DTSTART;TZID=UTC:20260301T190000
DTEND;TZID=UTC:20260301T210000
DTSTAMP:20260424T053908
CREATED:20260210T110705Z
LAST-MODIFIED:20260302T175544Z
UID:26320-1772391600-1772398800@dokukino.net
SUMMARY:Neobično putovanje: Priča o Rockyju Horroru
DESCRIPTION:Kultni mjuzikl Rocky Horror Picture Show (1975.) krenuo je kao niskobudžetna predstava u underground londonskom kazalištu da bi se ubrzo prometnuo u jedan od najgledanijih midnight movies i najvećih fenomena pop kulture. Od skromnih početaka preko strelovitog uspona do transgresivnog nasljeđa\, jubilejni dokumentarac istražuje što već pola stoljeća čini predstavu i film tako jedinstvenima: legendarne izvedbe\, upečatljive pjesme\, beskompromisno slavljenje kvir estetike i drag kulture te poigravanje s tradicionalnim rodnim ulogama. Projekcije Rocky Horror Picture Showa poznate su kao jedinstveno i interaktivno iskustvo koje prate shadow casts\, drag nastupi i kostimirani natječaji za publiku čime se kroz povijest osnaživala LGBTQ zajednica. Dokumentarac uključuje intervjue s članovima originalne glumačke postave poput Tima Curryja\, oskarovke Susan Sarandon\, Barryja Bostwicka\, Patricije Quinn i Nell Campbell te slavnim fanovima poput Jacka Blacka i pobjednice RuPaul’s Drag Race Trixie Mattel koji dijele osobne refleksije o dugotrajnom kulturnom utjecaju Rocky Horrora. \nAko se ne prikazuje prodaja karata niže\, kliknite ovdje. \n 
URL:https://dokukino.net/film/8-arteria-neobicno-putovanje-prica-o-rockyju-horroru-2026-03-01/2026-03-01/
LOCATION:Dokukino KIC\, Preradovićeva 5
CATEGORIES:Dugometražni
ATTACH;FMTTYPE=image/jpeg:https://dokukino.net/wp-content/uploads/2026/02/MV5BMGQ0YzBjZjYtMjQ2YS00Y2Q3LWEzMTEtMTJjNzMwNWY0MTkxXkEyXkFqcGc@._V1_.jpg
END:VEVENT
END:VCALENDAR