BEGIN:VCALENDAR
VERSION:2.0
PRODID:-//Dokukino KIC - Kino sa stavom - ECPv6.8.1//NONSGML v1.0//EN
CALSCALE:GREGORIAN
METHOD:PUBLISH
X-ORIGINAL-URL:https://dokukino.net
X-WR-CALDESC:Events for Dokukino KIC - Kino sa stavom
REFRESH-INTERVAL;VALUE=DURATION:PT1H
X-Robots-Tag:noindex
X-PUBLISHED-TTL:PT1H
BEGIN:VTIMEZONE
TZID:UTC
BEGIN:STANDARD
TZOFFSETFROM:+0000
TZOFFSETTO:+0000
TZNAME:UTC
DTSTART:20260101T000000
END:STANDARD
END:VTIMEZONE
BEGIN:VEVENT
DTSTART;TZID=UTC:20260228T170000
DTEND;TZID=UTC:20260228T183000
DTSTAMP:20260424T060529
CREATED:20260208T135649Z
LAST-MODIFIED:20260302T175749Z
UID:26140-1772298000-1772303400@dokukino.net
SUMMARY:Kako pronaći djevojku u Kini
DESCRIPTION:U zemlji u kojoj ima znatno više muškaraca tri neoženjena muškarca pridružuju se intenzivnom sedmodnevnom kampu za upoznavanje koji vodi jedan od najtraženijih kineskih trenera za upoznavanje. Ovo bi mogao biti njihov posljednji pokušaj da pronađu ljubav. Tržište ljubavi i braka izrazito je kompetitivno\, dodatno otežano desetljećima politike jednoga djeteta. U takvome društvu veliku ulogu igraju imidž\, društveni status i zarada. Tri protagonista nemaju drugoga izbora nego slijediti upute njihovog trenera; dok ih on uči prepredenim tehnikama zavođenja\, njegov se brak počinje raspadati. Kako pronaći djevojku u Kini zabavan je\, apsurdan koliko i dirljiv pogled u ljubav i rodne uloge u suvremenoj Kini. \nAko se ne prikazuje prodaja karata u nastavku\, kliknite ovdje. \nFestivali i nagrade: \nSUNDANCE 2025 / MIAMI FILM FESTIVAL 2025 / SAN FRANCISCO INT’L FF 2025 / ZURICH FILM FESTIVAL 2025 / CPH:DOX 2025 / THESSALONIKI INT’L DOCUMENTARY FESTIVAL 2025 / DOCUMENTARY EDGE 2025 – posebno priznanje\, najbolji međunarodni redatelj (DocEdge Award) \nRecenzije: \n“Šarena i bujna fasada filma The Dating Game prikriva sumornu\, distopijsku realnost” Bilge Ebiri\, Vulture \n“Poučan uvid u jednu moćnu državu suočenu s mukama nadolazeće kulturne katastrofe i nekolicine muškaraca u očajničkoj potrazi za ljubavi” Nick Schager\, The Daily Beast
URL:https://dokukino.net/film/kako-pronaci-djevojku-u-kini/2026-02-28/
LOCATION:Dokukino KIC\, Preradovićeva 5
CATEGORIES:Dugometražni
ATTACH;FMTTYPE=image/jpeg:https://dokukino.net/wp-content/uploads/2026/02/dating-game-poster.jpg
END:VEVENT
BEGIN:VEVENT
DTSTART;TZID=UTC:20260228T190000
DTEND;TZID=UTC:20260228T203000
DTSTAMP:20260424T060529
CREATED:20260110T140633Z
LAST-MODIFIED:20260110T140633Z
UID:26129-1772305200-1772310600@dokukino.net
SUMMARY:Priča o Siljanu
DESCRIPTION:Od redateljice nominirane za Oscara za film Medena zemlja dolazi dirljiva i vizualno dojmljiva priča smještena u samo srce ruralne Makedonije. Nikola\, poljoprivrednik koji se bori s teškim posljedicama novih vladinih politika\, nalazi se u situaciji da ne može prodati svoju zemlju ni usjeve. Kada njegova obitelj ode u potrazi za boljim životom u inozemstvu\, Nikola prihvaća posao čuvara na odlagalištu otpada\, gdje susreće ozlijeđenu bijelu rodu Siljana. Dok je njeguje i pomaže joj da se oporavi\, između čovjeka i životinje stvara se neočekivana povezanost. Rezultat je duboko potresan film koji progovara o klimatskim promjenama\, ekonomskim migracijama\, otpornosti i tihoj snazi povezanosti. \nAko se ne prikazuje prodaja karata\, kliknite ovdje. \nFestivali i nagrade: \n82. VENICE FILM FESTIVAL 2025 (svjetska premijera) – Best Film in the Cinema and Arts Award; BERGEN INTERNATIONAL FILM FESTIVAL 2025 – Documentaire Extraordinaire – Posebno priznanje; IDA DOCUMENTARY AWARDS 2025 –  Nominiran za Najbolji dugometražni dokumentarni film i za Najbolju fotografiju; MEĐUNAROTNI FILMSKI FESTIVAL U TORONTU 2025 \nRecenzije: \n“Spajajući mit i realizam s iznimnom osjetljivošću\, Kotevska stvara djelo rijetke poetske snage\, film koji promatra\, sluša i na kraju osvjetljava tihu\, tvrdoglavu ljepotu samog života.” – Daniel Howat\, Next Best Picture \n“Kotevskino filmsko stvaralaštvo nalazi se na poetskom\, magično realizmu\, na kraju spektra nefikcije.” – Wendy Ide\, Screen Daily \n“To je portret života gdje je sudbina ljudi vezana uz hirove tržišnih trendova i još nejasnijih sila – dakle\, portret svih nas.” – Christian Blauvelt\, IndieWire
URL:https://dokukino.net/film/prica-o-siljanu/2026-02-28/
LOCATION:Dokukino KIC\, Preradovićeva 5
CATEGORIES:Dugometražni
ATTACH;FMTTYPE=image/jpeg:https://dokukino.net/wp-content/uploads/2026/01/POS_PlakatPRIP-1.jpg
END:VEVENT
END:VCALENDAR