BEGIN:VCALENDAR
VERSION:2.0
PRODID:-//Dokukino KIC - Kino sa stavom - ECPv6.8.1//NONSGML v1.0//EN
CALSCALE:GREGORIAN
METHOD:PUBLISH
X-ORIGINAL-URL:https://dokukino.net
X-WR-CALDESC:Events for Dokukino KIC - Kino sa stavom
REFRESH-INTERVAL;VALUE=DURATION:PT1H
X-Robots-Tag:noindex
X-PUBLISHED-TTL:PT1H
BEGIN:VTIMEZONE
TZID:UTC
BEGIN:STANDARD
TZOFFSETFROM:+0000
TZOFFSETTO:+0000
TZNAME:UTC
DTSTART:20260101T000000
END:STANDARD
END:VTIMEZONE
BEGIN:VEVENT
DTSTART;TZID=UTC:20260218T190000
DTEND;TZID=UTC:20260218T210000
DTSTAMP:20260424T072853
CREATED:20260210T103737Z
LAST-MODIFIED:20260323T134837Z
UID:26173-1771441200-1771448400@dokukino.net
SUMMARY:8. Arteria: Obitelj Giacometti
DESCRIPTION:Alpska dolina Bregaglia\, kraški planinski predio između Švicarske i Italije\, izrodio je čitavu umjetničku lozu: obitelj Giacometti. Što čini ovu dolinu rasadištem tolikih umjetnika i umjetnica? Film slijedi trag njihovih prvih koraka i propituje spregu između kreativnosti i odgoja te implikacije odrastanja u dinamičnom umjetničkom podneblju. Slike\, crteži\, osobna pisma\, suvremeni svjedoci i monumentalni kadrovi gorskog krajolika oživljuju individualne umjetničke figure i njihove zamršene ali skladne obiteljske odnose u čijem je središtu energična majka i supruga Annetta Giacometti-Stampa. Od oca i impresionističkog slikara Giovannija do djece Alberta\, Diega\, Ottilije i Bruna svi su bili iznimno umjetnički nadareni. U fokusu je jedan od najvećih kipara dvadesetog stoljeća\, Alberto Giacometti (1901. – 1966.)\, koji je transformirao svijet umjetnosti svojim iznurenim i izduženim brončanim siluetama inspiriranim Sarterovom egzistencijalističkom filozofijom i borbom za goli život. \nNakon projekcije održat će se razgovor u kojem sudjeluju akademski umjetnik Željko Beljan i kustosica Leila Topić. \nFilm prikazujemo u sklopu 8. Arterije – tjedna filma o umjetnosti u organizaciji Kulturno informativnog centra (KIC).
URL:https://dokukino.net/film/8-arteria-obitelj-giacometti/
LOCATION:Dokukino KIC\, Preradovićeva 5
CATEGORIES:Dugometražni
ATTACH;FMTTYPE=image/jpeg:https://dokukino.net/wp-content/uploads/2026/02/8-Arteria-plakat.jpg
END:VEVENT
END:VCALENDAR