BEGIN:VCALENDAR
VERSION:2.0
PRODID:-//Dokukino KIC - Kino sa stavom - ECPv6.8.1//NONSGML v1.0//EN
CALSCALE:GREGORIAN
METHOD:PUBLISH
X-ORIGINAL-URL:https://dokukino.net
X-WR-CALDESC:Events for Dokukino KIC - Kino sa stavom
REFRESH-INTERVAL;VALUE=DURATION:PT1H
X-Robots-Tag:noindex
X-PUBLISHED-TTL:PT1H
BEGIN:VTIMEZONE
TZID:UTC
BEGIN:STANDARD
TZOFFSETFROM:+0000
TZOFFSETTO:+0000
TZNAME:UTC
DTSTART:20260101T000000
END:STANDARD
END:VTIMEZONE
BEGIN:VEVENT
DTSTART;TZID=UTC:20260215T170000
DTEND;TZID=UTC:20260215T190000
DTSTAMP:20260424T072838
CREATED:20260119T001145Z
LAST-MODIFIED:20260208T215943Z
UID:26130-1771174800-1771182000@dokukino.net
SUMMARY:The Voice of Hind Rajab (English subtitles)
DESCRIPTION:January 29\, 2024. Red Crescent volunteers receive an emergency call. A 6-year-old girl is trapped in a car under fire in Gaza\, pleading for rescue. While trying to keep her on the line\, they do everything they can to get an ambulance to her. Her name was Hind Rajab. \nTickets are available here. \nFestivals and awards: \nVENICE FILM FESTIVAL 2025 – Grand Jury Prize\, ARCA CinemaGiovani Award – Best Film of Venezia 81\, CICT – UNESCO Enrico Fulchignoni Award\, Croce Rossa Italiana Award\, Edipo Re Award\, Leoncino d’Oro Award\, Sorriso Diverso Venezia Award for Best Foreign Film\, UNIMED Award / SAN SEBASTIÁN INT’L FILM FESTIVAL 2025 – Audience Award / FILM FEST GENT 2025 – Grand Prix for Best Film / BFI LONDON FILM FESTIVAL 2025 / ACADEMY AWARDS 2026 – nominated for Best International Feature Film / ZAGREB FILM FESTIVAL 2025 \nReviews: \n“Ben Hania lights a connective fuse between documentary and drama.” Sheri Linden\, The Hollywood Reporter \n“There is a reckless\, ruthless kind of provocative brilliance in what Ben Hania is doing.” Peter Bradshaw\, The Guardian
URL:https://dokukino.net/film/glas-hind-rajab-2026-02-15/
LOCATION:Dokukino KIC\, Preradovićeva 5
CATEGORIES:Dugometražni
ATTACH;FMTTYPE=image/jpeg:https://dokukino.net/wp-content/uploads/2026/01/hind_rajab_556x800.jpg
END:VEVENT
BEGIN:VEVENT
DTSTART;TZID=UTC:20260215T190000
DTEND;TZID=UTC:20260215T203000
DTSTAMP:20260424T072838
CREATED:20260110T140633Z
LAST-MODIFIED:20260110T140633Z
UID:26127-1771182000-1771187400@dokukino.net
SUMMARY:Priča o Siljanu
DESCRIPTION:Od redateljice nominirane za Oscara za film Medena zemlja dolazi dirljiva i vizualno dojmljiva priča smještena u samo srce ruralne Makedonije. Nikola\, poljoprivrednik koji se bori s teškim posljedicama novih vladinih politika\, nalazi se u situaciji da ne može prodati svoju zemlju ni usjeve. Kada njegova obitelj ode u potrazi za boljim životom u inozemstvu\, Nikola prihvaća posao čuvara na odlagalištu otpada\, gdje susreće ozlijeđenu bijelu rodu Siljana. Dok je njeguje i pomaže joj da se oporavi\, između čovjeka i životinje stvara se neočekivana povezanost. Rezultat je duboko potresan film koji progovara o klimatskim promjenama\, ekonomskim migracijama\, otpornosti i tihoj snazi povezanosti. \nAko se ne prikazuje prodaja karata\, kliknite ovdje. \nFestivali i nagrade: \n82. VENICE FILM FESTIVAL 2025 (svjetska premijera) – Best Film in the Cinema and Arts Award; BERGEN INTERNATIONAL FILM FESTIVAL 2025 – Documentaire Extraordinaire – Posebno priznanje; IDA DOCUMENTARY AWARDS 2025 –  Nominiran za Najbolji dugometražni dokumentarni film i za Najbolju fotografiju; MEĐUNAROTNI FILMSKI FESTIVAL U TORONTU 2025 \nRecenzije: \n“Spajajući mit i realizam s iznimnom osjetljivošću\, Kotevska stvara djelo rijetke poetske snage\, film koji promatra\, sluša i na kraju osvjetljava tihu\, tvrdoglavu ljepotu samog života.” – Daniel Howat\, Next Best Picture \n“Kotevskino filmsko stvaralaštvo nalazi se na poetskom\, magično realizmu\, na kraju spektra nefikcije.” – Wendy Ide\, Screen Daily \n“To je portret života gdje je sudbina ljudi vezana uz hirove tržišnih trendova i još nejasnijih sila – dakle\, portret svih nas.” – Christian Blauvelt\, IndieWire
URL:https://dokukino.net/film/prica-o-siljanu/2026-02-15/
LOCATION:Dokukino KIC\, Preradovićeva 5
CATEGORIES:Dugometražni
ATTACH;FMTTYPE=image/jpeg:https://dokukino.net/wp-content/uploads/2026/01/POS_PlakatPRIP-1.jpg
END:VEVENT
END:VCALENDAR