BEGIN:VCALENDAR
VERSION:2.0
PRODID:-//Dokukino KIC - Kino sa stavom - ECPv6.8.1//NONSGML v1.0//EN
CALSCALE:GREGORIAN
METHOD:PUBLISH
X-WR-CALNAME:Dokukino KIC - Kino sa stavom
X-ORIGINAL-URL:https://dokukino.net
X-WR-CALDESC:Events for Dokukino KIC - Kino sa stavom
REFRESH-INTERVAL;VALUE=DURATION:PT1H
X-Robots-Tag:noindex
X-PUBLISHED-TTL:PT1H
BEGIN:VTIMEZONE
TZID:UTC
BEGIN:STANDARD
TZOFFSETFROM:+0000
TZOFFSETTO:+0000
TZNAME:UTC
DTSTART:20260101T000000
END:STANDARD
END:VTIMEZONE
BEGIN:VEVENT
DTSTART;TZID=UTC:20260207T170000
DTEND;TZID=UTC:20260207T190000
DTSTAMP:20260424T072752
CREATED:20260110T142206Z
LAST-MODIFIED:20260208T132648Z
UID:25953-1770483600-1770490800@dokukino.net
SUMMARY:Dolazi mali sivi vuk
DESCRIPTION:Alice majčin rad naziva propagandom\, dok Žana vjeruje da radi za dobrobit svoje domovine. Kao dopisnica državne ruske televizije\, njezin zadatak je oblikovati sliku svijeta prema narativima Kremlja. Kako njezina kćer tinejdžerica ne pokazuje gotovo nikakvu povezanost s ruskim identitetom\, Žana je vodi na putovanje kroz najveću zemlju na svijetu kako bi je približila njezinim korijenima. Kako njihovo putovanje duž i poprijeko Putinove Rusije odmiče\, Žana se sve više suočava s vlastitom prošlošću i identitetom dok se u pozadini približava invazija na Ukrajinu. Dolazi mali sivi vuk slojevita je i hrabra priča o međugeneracijskom (ne)razumijevanju i gubitku domovine. \nAko se ne prikazuje prodaja karata\, kliknite ovdje. \nFestivali i nagrade: \nSHEFFIELD DOCFEST 2025 / CINEHILL 2025 / LIBURNIA FILM FESTIVAL 2025
URL:https://dokukino.net/film/dolazi-mali-sivi-vuk-2/2026-02-07/
LOCATION:Dokukino KIC\, Preradovićeva 5
CATEGORIES:Dugometražni
ATTACH;FMTTYPE=image/jpeg:https://dokukino.net/wp-content/uploads/2026/01/Poster_HR_B2.jpg
END:VEVENT
BEGIN:VEVENT
DTSTART;TZID=UTC:20260207T190000
DTEND;TZID=UTC:20260207T210000
DTSTAMP:20260424T072752
CREATED:20260110T140633Z
LAST-MODIFIED:20260208T133003Z
UID:26046-1770490800-1770498000@dokukino.net
SUMMARY:Priča o Siljanu
DESCRIPTION:Od redateljice nominirane za Oscara za film Medena zemlja dolazi dirljiva i vizualno dojmljiva priča smještena u samo srce ruralne Makedonije. Nikola\, poljoprivrednik koji se bori s teškim posljedicama novih vladinih politika\, nalazi se u situaciji da ne može prodati svoju zemlju ni usjeve. Kada njegova obitelj ode u potrazi za boljim životom u inozemstvu\, Nikola prihvaća posao čuvara na odlagalištu otpada\, gdje susreće ozlijeđenu bijelu rodu Siljana. Dok je njeguje i pomaže joj da se oporavi\, između čovjeka i životinje stvara se neočekivana povezanost. Rezultat je duboko potresan film koji progovara o klimatskim promjenama\, ekonomskim migracijama\, otpornosti i tihoj snazi povezanosti. \nAko se ne prikazuje prodaja karata\, kliknite ovdje. \nFestivali i nagrade: \n82. VENICE FILM FESTIVAL 2025 (svjetska premijera) – Best Film in the Cinema and Arts Award; BERGEN INTERNATIONAL FILM FESTIVAL 2025 – Documentaire Extraordinaire – Posebno priznanje; IDA DOCUMENTARY AWARDS 2025 –  Nominiran za Najbolji dugometražni dokumentarni film i za Najbolju fotografiju; MEĐUNAROTNI FILMSKI FESTIVAL U TORONTU 2025 \nRecenzije: \n“Spajajući mit i realizam s iznimnom osjetljivošću\, Kotevska stvara djelo rijetke poetske snage\, film koji promatra\, sluša i na kraju osvjetljava tihu\, tvrdoglavu ljepotu samog života.” – Daniel Howat\, Next Best Picture \n“Kotevskino filmsko stvaralaštvo nalazi se na poetskom\, magično realizmu\, na kraju spektra nefikcije.” – Wendy Ide\, Screen Daily \n“To je portret života gdje je sudbina ljudi vezana uz hirove tržišnih trendova i još nejasnijih sila – dakle\, portret svih nas.” – Christian Blauvelt\, IndieWire
URL:https://dokukino.net/film/prica-o-siljanu/2026-02-07/
LOCATION:Dokukino KIC\, Preradovićeva 5
CATEGORIES:Dugometražni
ATTACH;FMTTYPE=image/jpeg:https://dokukino.net/wp-content/uploads/2026/01/POS_PlakatPRIP-1.jpg
END:VEVENT
END:VCALENDAR