BEGIN:VCALENDAR
VERSION:2.0
PRODID:-//Dokukino KIC - Kino sa stavom - ECPv6.8.1//NONSGML v1.0//EN
CALSCALE:GREGORIAN
METHOD:PUBLISH
X-ORIGINAL-URL:https://dokukino.net
X-WR-CALDESC:Events for Dokukino KIC - Kino sa stavom
REFRESH-INTERVAL;VALUE=DURATION:PT1H
X-Robots-Tag:noindex
X-PUBLISHED-TTL:PT1H
BEGIN:VTIMEZONE
TZID:UTC
BEGIN:STANDARD
TZOFFSETFROM:+0000
TZOFFSETTO:+0000
TZNAME:UTC
DTSTART:20260101T000000
END:STANDARD
END:VTIMEZONE
BEGIN:VEVENT
DTSTART;TZID=UTC:20260131T170000
DTEND;TZID=UTC:20260131T183000
DTSTAMP:20260424T072109
CREATED:20260110T142206Z
LAST-MODIFIED:20260208T132646Z
UID:25680-1769878800-1769884200@dokukino.net
SUMMARY:Dolazi mali sivi vuk
DESCRIPTION:Alice majčin rad naziva propagandom\, dok Žana vjeruje da radi za dobrobit svoje domovine. Kao dopisnica državne ruske televizije\, njezin zadatak je oblikovati sliku svijeta prema narativima Kremlja. Kako njezina kćer tinejdžerica ne pokazuje gotovo nikakvu povezanost s ruskim identitetom\, Žana je vodi na putovanje kroz najveću zemlju na svijetu kako bi je približila njezinim korijenima. Kako njihovo putovanje duž i poprijeko Putinove Rusije odmiče\, Žana se sve više suočava s vlastitom prošlošću i identitetom dok se u pozadini približava invazija na Ukrajinu. Dolazi mali sivi vuk slojevita je i hrabra priča o međugeneracijskom (ne)razumijevanju i gubitku domovine. \nAko se ne prikazuje prodaja karata\, kliknite ovdje. \nFestivali i nagrade: \nSHEFFIELD DOCFEST 2025 / CINEHILL 2025 / LIBURNIA FILM FESTIVAL 2025
URL:https://dokukino.net/film/dolazi-mali-sivi-vuk-2/2026-01-31/
LOCATION:Dokukino KIC\, Preradovićeva 5
CATEGORIES:Dugometražni
ATTACH;FMTTYPE=image/jpeg:https://dokukino.net/wp-content/uploads/2026/01/Poster_HR_B2.jpg
END:VEVENT
BEGIN:VEVENT
DTSTART;TZID=UTC:20260131T190000
DTEND;TZID=UTC:20260131T210000
DTSTAMP:20260424T072109
CREATED:20260119T001145Z
LAST-MODIFIED:20260208T133201Z
UID:25946-1769886000-1769893200@dokukino.net
SUMMARY:Glas Hind Rajab
DESCRIPTION:29. siječnja\, 2024. godine. Volonteri Crvenog polumjeseca u Palestini zaprimaju poziv za hitnu pomoć. Šestogodišnja djevojčica zarobljena je u automobilu pod izraelskom paljbom i moli ih da je spase. Dok je pokušavaju zadržati na liniji\, volonteri razgovaraju s njom i čine sve što mogu kako bi hitna pomoć stigla do nje. Djevojčica se zvala Hind Rajab. Ova duboko potresna dokudrama o slučaju koji je odjeknuo svijetom mješavina je stvarne audiosnimke Hindina glasa i dramatizirane izvedbe\, prikazana iz perspektive volontera hitne službe koji su zaprimili poziv. Snimljen s namjerom širenja svijesti o genocidu nad Palestincima i kako bi pridonio globalnom pozivu na akciju\, film je u Veneciji ovjenčan nizom nagrada\, uključujući Veliku nagradu žirija. \nAko se ne prikazuje prodaja karata\, kliknite ovdje. \nFestivali i nagrade:  \nVENECIJANSKI FILMSKI FESTIVAL 2025 – Velika nagrada žirija\, nagrada Sorriso Diverso Venezia za najbolji strani film\, nagrada Croce Rossa Italiana\, nagrada Arca CinemaGiovani – najbolji film Venecije 82\, nagrada UNIMED\, nagrada Edipo Re\, XXXVII Prix CICT-UNESCO Enrico Fulchignoni – Medaglia Fellini 2025\, nagrada Leoncino d’Oro / MEĐUNARODNI FILMSKI FESTIVAL U TORONTU 2025 / MEĐUNARODNI FILMSKI FESTIVAL U SAN SEBASTIANU 2025 / ZAGREB FILM FESTIVAL 2025 \nRecenzije: \n“Film je moć\, odnosno u ovom slučaju glas ne samo za Hind Rajab\, već za sve pojedince čija životna priča\, odnosno borba\, posebice u okruženju rata\, nikad ne smije biti zaboravljena.” Jure Pepur\, Kinoljubac \n“Film u maniri dokudrame koristi stvarne audio snimke poziva Hind Rajab\, koje su toliko snažne i potresne da nam slika užasa nije potrebna – dovoljan je glas.” Dora Pavković\, Lupiga
URL:https://dokukino.net/film/glas-hind-rajab/2026-01-31/
LOCATION:Dokukino KIC\, Preradovićeva 5
CATEGORIES:Dugometražni
ATTACH;FMTTYPE=image/jpeg:https://dokukino.net/wp-content/uploads/2026/01/hind_rajab_556x800.jpg
END:VEVENT
END:VCALENDAR