BEGIN:VCALENDAR
VERSION:2.0
PRODID:-//Dokukino KIC - Kino sa stavom - ECPv6.8.1//NONSGML v1.0//EN
CALSCALE:GREGORIAN
METHOD:PUBLISH
X-ORIGINAL-URL:https://dokukino.net
X-WR-CALDESC:Events for Dokukino KIC - Kino sa stavom
REFRESH-INTERVAL;VALUE=DURATION:PT1H
X-Robots-Tag:noindex
X-PUBLISHED-TTL:PT1H
BEGIN:VTIMEZONE
TZID:UTC
BEGIN:STANDARD
TZOFFSETFROM:+0000
TZOFFSETTO:+0000
TZNAME:UTC
DTSTART:20260101T000000
END:STANDARD
END:VTIMEZONE
BEGIN:VEVENT
DTSTART;TZID=UTC:20260116T173000
DTEND;TZID=UTC:20260116T190000
DTSTAMP:20260424T124751
CREATED:20260103T014432Z
LAST-MODIFIED:20260103T014510Z
UID:25557-1768584600-1768590000@dokukino.net
SUMMARY:Stefan Pavlović – U potrazi za konjima
DESCRIPTION:U petak 16. siječnja očekuje nas program Kinokluba Zagreb u suradnji s Dokukinom i DHFA-om\, uz projekciju filma i masterclass redatelja Stefana Pavlovića. U 17.30 na programu je film U potrazi za konjima (2021\, 88′)\, o prijateljstvu između filmaša i ribara koji je izgubio sluh tijekom rata u Bosni\, a sada živi na jezeru\, u osami\, a nakon njega u 19.30 sati uslijedit će masterclass naziva Od snimanja intimnosti do intimnog snimanja. \n  \nU potrazi za konjima film je o prijateljstvu između filmaša i ribara koji je izgubio sluh tijekom rata u Bosni i povukao se na jezero kako bi živio u osami. Filmaš\, sin bosanskih roditelja\, bori se s komunikacijom jer je zbog mucanja izgubio svoj materinji jezik. Unatoč svojim ograničenjima u govoru i slušanju\, između mladog čovjeka i veterana razvija se snažno prijateljstvo. \nStefan Pavlović (r. 1989.) nagrađivani je filmski autor koji trenutno živi u Amsterdamu. Njegov debitantski dugometražni film Looking for Horses (2021.) prikazan je na više od četrdeset međunarodnih filmskih festivala i osvojio je petnaest nagrada\, među ostalim: Burning Lights Competition na Visions du Réel\, nagradu žirija na Sarajevo Film Festivalu\, Grand Prix na RIDM-u i nagradu za najbolji film na Kasseler Dokfestu. Stefan je 2021. godine dobio Prins Bernhard Documentary Stipend\, a 2022. bio je odabran za Berlinale Talents program. Član je programskog tima Eastern Neighbours Film Festivala u Haagu\, Nizozemska. Studirao je filmsku režiju na Art Center College of Design u Los Angelesu (BA) te završio MA na Netherlands Film Academy u Amsterdamu\, smjer Umjetničko istraživanje u filmu i kroz film.
URL:https://dokukino.net/film/stefan-pavlovic-u-potrazi-za-konjima/
LOCATION:Dokukino KIC\, Preradovićeva 5
CATEGORIES:Dugometražni
ATTACH;FMTTYPE=image/jpeg:https://dokukino.net/wp-content/uploads/2026/01/plakat.jpg
END:VEVENT
BEGIN:VEVENT
DTSTART;TZID=UTC:20260116T193000
DTEND;TZID=UTC:20260116T210000
DTSTAMP:20260424T124751
CREATED:20260103T012954Z
LAST-MODIFIED:20260103T012954Z
UID:25549-1768591800-1768597200@dokukino.net
SUMMARY:Masterclass: Stefan Pavlović – Od snimanja intimnosti do intimnog snimanja
DESCRIPTION:U petak 16. siječnja očekuje nas program Kinokluba Zagreb u suradnji s Dokukinom i DHFA-om\, uz projekciju filma i masterclass redatelja Stefana Pavlovića. U 17.30 na programu je film U potrazi za konjima (2021\, 88′)\, o prijateljstvu između filmaša i ribara koji je izgubio sluh tijekom rata u Bosni\, a sada živi na jezeru\, u osami\, a nakon njega u 19.30 sati uslijedit će masterclass naziva Od snimanja intimnosti do intimnog snimanja. \nStefanov masterclass prati razvoj njegova autorskog glasa\, od nijemog pogleda fascinacije do mucavog\, intimnog i subjektivnog načina povezivanja. Umjesto da govori o postignućima\, govorit će o pitanjima koja ga pokreću te o sumnjama\, nesigurnostima i tišinama koje okružuju stvaralački proces. Posebno ističe način na koji se koristi kamerom kao alatom za stvaranje odnosa\, za slušanje i promišljanje\, poput olovke. Kroz isječke starih radova\, inspirativne reference\, čitanja uživo te dijeljenje svog aktualnog istraživanja i filma u nastajanju\, Stefan će pokušati prikazati svoj kreativni proces u svim njegovim granama i tokovima. \nKombinirani program održava se u dva dijela: osim projekcije i masterclassa u Dokukinu\, radionica namijenjena filmskim autorima održat će se u Društvu hrvatskih autora i producenata. \nStefan Pavlović (r. 1989.) nagrađivani je filmski autor koji trenutno živi u Amsterdamu. Njegov debitantski dugometražni film Looking for Horses (2021.) prikazan je na više od četrdeset međunarodnih filmskih festivala i osvojio je petnaest nagrada\, među ostalim: Burning Lights Competition na Visions du Réel\, nagradu žirija na Sarajevo Film Festivalu\, Grand Prix na RIDM-u i nagradu za najbolji film na Kasseler Dokfestu. Stefan je 2021. godine dobio Prins Bernhard Documentary Stipend\, a 2022. bio je odabran za Berlinale Talents program. Član je programskog tima Eastern Neighbours Film Festivala u Haagu\, Nizozemska. Studirao je filmsku režiju na Art Center College of Design u Los Angelesu (BA) te završio MA na Netherlands Film Academy u Amsterdamu\, smjer Umjetničko istraživanje u filmu i kroz film. \n 
URL:https://dokukino.net/film/masterclass-stefan-pavlovic-od-snimanja-intimnosti-do-intimnog-snimanja/
LOCATION:Dokukino KIC\, Preradovićeva 5
CATEGORIES:Događaj
ATTACH;FMTTYPE=image/jpeg:https://dokukino.net/wp-content/uploads/2026/01/plakat.jpg
END:VEVENT
END:VCALENDAR