BEGIN:VCALENDAR
VERSION:2.0
PRODID:-//Dokukino KIC - Kino sa stavom - ECPv6.8.1//NONSGML v1.0//EN
CALSCALE:GREGORIAN
METHOD:PUBLISH
X-ORIGINAL-URL:https://dokukino.net
X-WR-CALDESC:Events for Dokukino KIC - Kino sa stavom
REFRESH-INTERVAL;VALUE=DURATION:PT1H
X-Robots-Tag:noindex
X-PUBLISHED-TTL:PT1H
BEGIN:VTIMEZONE
TZID:UTC
BEGIN:STANDARD
TZOFFSETFROM:+0000
TZOFFSETTO:+0000
TZNAME:UTC
DTSTART:20260101T000000
END:STANDARD
END:VTIMEZONE
BEGIN:VEVENT
DTSTART;TZID=UTC:20260114T190000
DTEND;TZID=UTC:20260114T210000
DTSTAMP:20260424T123710
CREATED:20260105T011444Z
LAST-MODIFIED:20260105T011444Z
UID:25578-1768417200-1768424400@dokukino.net
SUMMARY:EFA: Tiha zemlja sporo gori
DESCRIPTION:Krajolici\, povremeni razgovori\, susreti te zvukovi koji se provlače kroz kadrove sastavni su dio filma Tiha zemlja sporo gori. Sniman na različitim udaljenostim od fronta tijekom dvije godine\, ovaj audiovizualni dnevnik ukrajinskog pada u ponor potpunog rata prati suptilne promjene u ukrajinskom društvu. Hrapavi tonovi panike i užasa prvih tjedana ruske invazije polagano se preobražavaju u tupu tišinu prihvaćanja smrti i razaranja\, koji naposljetku postaju tragična normala lokalnog stanovništva\, no ostatku svijeta tek usputna misao. U jeku (meta)fizičkog krajolika kolektivne katastrofe nova generacija Ukrajinaca želi zamišljati budućnost. \nFestivali i nagrade: \nIDFA 2024 / VENICE FILM FESTIVAL 2024 / RIFA IFF 2024 / FIRST LOOK 2025 / BIG SKY DFF 2025 / ZAGREBDOX 2025
URL:https://dokukino.net/film/efa-tiha-zemlja-sporo-gori/
LOCATION:Dokukino KIC\, Preradovićeva 5
CATEGORIES:Dugometražni
ATTACH;FMTTYPE=image/jpeg:https://dokukino.net/wp-content/uploads/2026/01/MV5BMjJmYTA2Y2ItYzYzMy00OWIwLWJiNTItMzhlN2U4NWY5ODVmXkEyXkFqcGc@._V1_FMjpg_UX1000_.jpg
END:VEVENT
END:VCALENDAR