BEGIN:VCALENDAR
VERSION:2.0
PRODID:-//Dokukino KIC - Kino sa stavom - ECPv6.8.1//NONSGML v1.0//EN
CALSCALE:GREGORIAN
METHOD:PUBLISH
X-ORIGINAL-URL:https://dokukino.net
X-WR-CALDESC:Events for Dokukino KIC - Kino sa stavom
REFRESH-INTERVAL;VALUE=DURATION:PT1H
X-Robots-Tag:noindex
X-PUBLISHED-TTL:PT1H
BEGIN:VTIMEZONE
TZID:UTC
BEGIN:STANDARD
TZOFFSETFROM:+0000
TZOFFSETTO:+0000
TZNAME:UTC
DTSTART:20250101T000000
END:STANDARD
END:VTIMEZONE
BEGIN:VEVENT
DTSTART;TZID=UTC:20251228T170000
DTEND;TZID=UTC:20251228T190000
DTSTAMP:20260424T155423
CREATED:20250124T162927Z
LAST-MODIFIED:20260105T005634Z
UID:25372-1766941200-1766948400@dokukino.net
SUMMARY:Fiume o morte!
DESCRIPTION:U ovom stilski raskošnom\, kreativnom i zaigranom filmu građani grada Rijeke\, kojeg Talijani zovu Fiume\, prepričavaju\, rekonstruiraju i reinterpretiraju bizarnu priču o 16-mjesečnoj okupaciji njihovog grada 1919. godine od strane talijanskog pjesnika\, dandyja i propovjednika rata Gabrielea D’Annunzija. \nPoezija\, kokain\, dinamit\, puške\, nogomet\, avioni\, pokućstvo koje leti kroz prozor\, koncerti\, zatvori\, sunčanje\, tisuće vojnika\, milijuni metaka\, beskonačni govori i čak jedan čudnovati kljunaš… Sve su to dijelovi jedne od najbizarnijih okupacija u povijesti čovječanstva. Građani Rijeke ovim su filmom\, nakon 100 godina\, dobili priliku preuzeti povijest u svoje ruke i kroz film ispričati svoju verziju događaja. \nAko se prodaja karata ne prikazuje\, kliknite ovdje. \nFestivali i nagrade: \nROTTERDAM IFF 2025 – velika nagrada žirija Tiger\, nagrada FIPRESCI / DANI HRVATSKOG FILMA 2025 – nagrada publike\, nagrada za najbolju režiju\, nagrada za najbolju glazbu / EUROPSKE FILMSKE NAGRADE 2026 – nominacija u kategorijama europskog filma i europskog dokumentarca / MONTEPLLIER MEDITERRANEAN FILM FESTIVAL 2025 / PULA FILM FESTIVAL 2025 – Zlatna arena za najbolju režiju\, najbolju scenografiju\, najbolju masku\, najbolju kostimografiju\, najbolju produkciju\, najbolji casting\, nagrada Vedran Šamanović / SAN SEBASTIÁN IFF 2025 / SLOVENE FILM FESTIVAL 2025 – Vesna za najbolju fotografiju\, najbolju manjinsku koprodukciju / BERGEN IFF 2025 / GOLDEN APRICOT YEREVAN IFF 2025 – Zlatna marelica / ZAGREB FILM FESTIVAL – Nagrada Albert Kapović / CINEAST 2025 – nagrada publike / MAKEDOX CREATIVE DOCUMENTARY FF 2025 – Young Onion
URL:https://dokukino.net/film/fiume-o-morte/2025-12-28/
LOCATION:Dokukino KIC\, Preradovićeva 5
CATEGORIES:Dugometražni
ATTACH;FMTTYPE=image/jpeg:https://dokukino.net/wp-content/uploads/2025/01/3_finished_hr_fiu_A4.jpg
END:VEVENT
BEGIN:VEVENT
DTSTART;TZID=UTC:20251228T190000
DTEND;TZID=UTC:20251228T210000
DTSTAMP:20260424T155423
CREATED:20251107T152618Z
LAST-MODIFIED:20251107T152618Z
UID:25324-1766948400-1766955600@dokukino.net
SUMMARY:Vjetre\, pričaj sa mnom
DESCRIPTION:Stefan se ponovno okuplja sa svojom obitelji kako bi prvi put nakon nedavne smrti majke proslavio bakin rođendan. Ovaj povratak kući\, potaknut potrebom da dovrši film o svojoj majci i pokušajem da se iskupi spašavanjem psa lutalice\, pokrenut će Stefanovo introspektivno putovanje. Inspiriran stvarnim iskustvima redatelja i s članovima njegove obitelji u glavnim ulogama u misiji dovršetka kuće na jezeru i filma\, Vjetre\, pričaj sa mnom intimno je filmsko istraživanje bezvremenskog odnosa majke i sina. \nAko se prodaja ulaznica ne prikazuje niže\, kliknite ovdje. \nFestivali i nagrade: \nIFF ROTTERDAM 2025 / INDIELISBOA 2025 – nagrada za najbolji film/ GUANAJUATO IFF 2025 – nagrada za najbolji film / SARAJEVO FILM FESTIVAL 2025 – nagrada za najbolji film / VIENNALE 2025 / SCANORAMA 2025 / CYPRUS IFF 2025 – nagrada za najbolju fotografiju / VANCOUVER IFF 2025 – nagrada za najbolji film / CINEAST 2025 – Grand Prix / ZAGREB FILM FESTIVAL 2025 – Zlatna kolica za najbolji dugometražni film \nRecenzije: \n“Izvanredan dugometražni prvijenac isprepliće činjenice s fikcijom i sjećanjem u ovoj dirljivoj posveti njegovoj preminuloj majci.” Guy Lodge\, Variety \n“Skroman hibridni film o žalovanju” Robert Daniels\, Roger Ebert \n 
URL:https://dokukino.net/film/vjetre-pricaj-sa-mnom-2/2025-12-28/
LOCATION:Dokukino KIC\, Preradovićeva 5
CATEGORIES:Dugometražni
ATTACH;FMTTYPE=image/jpeg:https://dokukino.net/wp-content/uploads/2025/11/VETRE-PRICAJ-SA-MNOM-print-jpg.jpg
END:VEVENT
END:VCALENDAR