BEGIN:VCALENDAR
VERSION:2.0
PRODID:-//Dokukino KIC - Kino sa stavom - ECPv6.8.1//NONSGML v1.0//EN
CALSCALE:GREGORIAN
METHOD:PUBLISH
X-ORIGINAL-URL:https://dokukino.net
X-WR-CALDESC:Events for Dokukino KIC - Kino sa stavom
REFRESH-INTERVAL;VALUE=DURATION:PT1H
X-Robots-Tag:noindex
X-PUBLISHED-TTL:PT1H
BEGIN:VTIMEZONE
TZID:UTC
BEGIN:STANDARD
TZOFFSETFROM:+0000
TZOFFSETTO:+0000
TZNAME:UTC
DTSTART:20250101T000000
END:STANDARD
END:VTIMEZONE
BEGIN:VEVENT
DTSTART;TZID=UTC:20251213T180000
DTEND;TZID=UTC:20251213T200000
DTSTAMP:20260424T142546
CREATED:20251203T094444Z
LAST-MODIFIED:20251208T094017Z
UID:25228-1765648800-1765656000@dokukino.net
SUMMARY:Lijepi i dragi ljudi
DESCRIPTION:Fotograf iz malog mjesta u malenoj zemlji ima veliku ideju: na prijelazu milenija fotografirat će najviše ljudi kako bi za buduće generacije ostavio trag o svojim suvremenicima. Nekoliko stotina tisuća poziralo je u isto vrijeme pred njegovim fotoaparatom – i tako je zaživio projekt Milenijske fotografije Šime Strikomana. Prateći Strikomanove akcije\, upoznajemo njegove dobrodušne modele: posljednju generaciju analognih ljudi koja živi u malim mjestima na rubu Europe. Oni se čude munjevitom tehnološkom napretku\, ne razumiju uvijek svijet koji dolazi\, vole zapjevati i zaplesati te žele sačuvati svoje navike i običaje. \nNakon projekcije slijedi razgovor s redateljem filma Igorom Mirkovićem\, protagonist Šime Strikoman i direktor fotografije Silvestar Kolbas. \nFestivali: \nZAGREBDOX 2024 \nRecenzije: \n“Cjelovečernji dokumentarni film sniman petnaest godina mogao je donijeti znatno više informacija i zaći mnogo dublje u izabrani odsječak svijeta\, no autor je izabrao predstaviti protagonista i njegovo djelo u šarmantnom svjetlu i ne zagledati ispod površine\, iza kulisa\, u zapozorje\, gdje se jamačno nalaze brojne golom oku nevidljive zanimljivosti trudbeničkog rada.” Janko Heidl\, Dokumentarni.net \n“Topla priča iza milenijskih fotografija Šime Strikomana koja će vas razgaliti.” Gea Vlahović\, Telegram.hr
URL:https://dokukino.net/film/lijepi-i-dragi-ljudi/
LOCATION:Dokukino KIC\, Preradovićeva 5
CATEGORIES:Dugometražni
ATTACH;FMTTYPE=image/jpeg:https://dokukino.net/wp-content/uploads/2025/12/unnamed-49-scaled-1.jpg
END:VEVENT
END:VCALENDAR