BEGIN:VCALENDAR
VERSION:2.0
PRODID:-//Dokukino KIC - Kino sa stavom - ECPv6.8.1//NONSGML v1.0//EN
CALSCALE:GREGORIAN
METHOD:PUBLISH
X-WR-CALNAME:Dokukino KIC - Kino sa stavom
X-ORIGINAL-URL:https://dokukino.net
X-WR-CALDESC:Events for Dokukino KIC - Kino sa stavom
REFRESH-INTERVAL;VALUE=DURATION:PT1H
X-Robots-Tag:noindex
X-PUBLISHED-TTL:PT1H
BEGIN:VTIMEZONE
TZID:UTC
BEGIN:STANDARD
TZOFFSETFROM:+0000
TZOFFSETTO:+0000
TZNAME:UTC
DTSTART:20250101T000000
END:STANDARD
END:VTIMEZONE
BEGIN:VEVENT
DTSTART;TZID=UTC:20251212T190000
DTEND;TZID=UTC:20251212T210000
DTSTAMP:20260424T143249
CREATED:20251107T152618Z
LAST-MODIFIED:20251211T113008Z
UID:25224-1765566000-1765573200@dokukino.net
SUMMARY:Vjetre\, pričaj sa mnom
DESCRIPTION:Stefan se ponovno okuplja sa svojom obitelji kako bi prvi put nakon nedavne smrti majke proslavio bakin rođendan. Ovaj povratak kući\, potaknut potrebom da dovrši film o svojoj majci i pokušajem da se iskupi spašavanjem psa lutalice\, pokrenut će Stefanovo introspektivno putovanje. Inspiriran stvarnim iskustvima redatelja i s članovima njegove obitelji u glavnim ulogama u misiji dovršetka kuće na jezeru i filma\, Vjetre\, pričaj sa mnom intimno je filmsko istraživanje bezvremenskog odnosa majke i sina. \nAko se prodaja ulaznica ne prikazuje niže\, kliknite ovdje. \nFestivali i nagrade: \nIFF ROTTERDAM 2025 / INDIELISBOA 2025 – nagrada za najbolji film/ GUANAJUATO IFF 2025 – nagrada za najbolji film / SARAJEVO FILM FESTIVAL 2025 – nagrada za najbolji film / VIENNALE 2025 / SCANORAMA 2025 / CYPRUS IFF 2025 – nagrada za najbolju fotografiju / VANCOUVER IFF 2025 – nagrada za najbolji film / CINEAST 2025 – Grand Prix / ZAGREB FILM FESTIVAL 2025 – Zlatna kolica za najbolji dugometražni film \nRecenzije: \n“Izvanredan dugometražni prvijenac isprepliće činjenice s fikcijom i sjećanjem u ovoj dirljivoj posveti njegovoj preminuloj majci.” Guy Lodge\, Variety \n“Skroman hibridni film o žalovanju” Robert Daniels\, Roger Ebert \n 
URL:https://dokukino.net/film/vjetre-pricaj-sa-mnom-2/2025-12-12/
LOCATION:Dokukino KIC\, Preradovićeva 5
CATEGORIES:Dugometražni
ATTACH;FMTTYPE=image/jpeg:https://dokukino.net/wp-content/uploads/2025/11/VETRE-PRICAJ-SA-MNOM-print-jpg.jpg
END:VEVENT
END:VCALENDAR