BEGIN:VCALENDAR
VERSION:2.0
PRODID:-//Dokukino KIC - Kino sa stavom - ECPv6.8.1//NONSGML v1.0//EN
CALSCALE:GREGORIAN
METHOD:PUBLISH
X-WR-CALNAME:Dokukino KIC - Kino sa stavom
X-ORIGINAL-URL:https://dokukino.net
X-WR-CALDESC:Events for Dokukino KIC - Kino sa stavom
REFRESH-INTERVAL;VALUE=DURATION:PT1H
X-Robots-Tag:noindex
X-PUBLISHED-TTL:PT1H
BEGIN:VTIMEZONE
TZID:UTC
BEGIN:STANDARD
TZOFFSETFROM:+0000
TZOFFSETTO:+0000
TZNAME:UTC
DTSTART:20250101T000000
END:STANDARD
END:VTIMEZONE
BEGIN:VEVENT
DTSTART;TZID=UTC:20251208T180000
DTEND;TZID=UTC:20251208T193000
DTSTAMP:20260424T142402
CREATED:20251203T092334Z
LAST-MODIFIED:20251203T092334Z
UID:25208-1765216800-1765222200@dokukino.net
SUMMARY:Lekcije mog tate
DESCRIPTION:Ovaj dokumentarni film nastao je nakon smrti autoričina oca koji je desetljećima bilježio svoj život i svakodnevicu kamerom. Nakon pronalaska njegovih brojnih kaseta koje nikada nije označio\, montirao niti gledao\, autorica se upušta u filmsko i osobno putovanje ponovnog otkrivanja tko je on bio. Gledajući snimke trenutaka kojima nije nazočila te prisjećajući se svog odrastanja i suživota svoje obitelji s kamerom koja je tati bila alat\, odabrana vrsta dnevničkog bilježenja i produžena ruka\, autorica ga upoznaje u različitim životnim ulogama\, vremenima i dijelovima svijeta. \nNakon projekcije filma uslijedit će razgovor s redateljicom Dalijom Dozet koji će moderirati filmska kritičarka Sara Simić. \nFestivali i nagrade: \nZAGREBDOX 2025 – nagrada Veliki pečat (regionalna konkurencija)/ SARAJEVO FILM FESTIVAL 2025 / LIBURNIA FILM FESTIVAL 2025 – nagrada za najbolju montažu (Sara Gregorić) \nRecenzije: \n“Čini se da je Dalija Dozet svoga oca ovim filmom konačno upoznala i shvatila\, te da smo i mi\, iz pozicije gledatelja\, to učinili s njom.” Marko Stojiljković\, Zona filma \n“Film je odlično koncipiran\, vrlo precizno\, dramaturški i narativno promišljeno i detaljno. Gledatelje osvaja time što je neposredan\, topao i vrlo bogat emocijama\, toliko da u nekim trenucima može natjerati i suze na oči.” Josip Grozdanić\, HRT
URL:https://dokukino.net/film/lekcije-mog-tate/
LOCATION:Dokukino KIC\, Preradovićeva 5
CATEGORIES:Dugometražni
ATTACH;FMTTYPE=image/jpeg:https://dokukino.net/wp-content/uploads/2025/12/PLAKAT_Lekcije-mog-tate.jpg
END:VEVENT
END:VCALENDAR