BEGIN:VCALENDAR
VERSION:2.0
PRODID:-//Dokukino KIC - Kino sa stavom - ECPv6.8.1//NONSGML v1.0//EN
CALSCALE:GREGORIAN
METHOD:PUBLISH
X-ORIGINAL-URL:https://dokukino.net
X-WR-CALDESC:Events for Dokukino KIC - Kino sa stavom
REFRESH-INTERVAL;VALUE=DURATION:PT1H
X-Robots-Tag:noindex
X-PUBLISHED-TTL:PT1H
BEGIN:VTIMEZONE
TZID:UTC
BEGIN:STANDARD
TZOFFSETFROM:+0000
TZOFFSETTO:+0000
TZNAME:UTC
DTSTART:20250101T000000
END:STANDARD
END:VTIMEZONE
BEGIN:VEVENT
DTSTART;TZID=UTC:20251206T190000
DTEND;TZID=UTC:20251206T203000
DTSTAMP:20260424T155433
CREATED:20251126T220240Z
LAST-MODIFIED:20251126T220240Z
UID:25132-1765047600-1765053000@dokukino.net
SUMMARY:23. HRFF: Militantropos
DESCRIPTION:Militantropos bilježi ljudsko stanje kroz razlomljene stvarnosti ruske invazije na Ukrajinu. Film spaja svakodnevne živote transformirane ratom – onih koji bježe\, onih koji gube sve i onih koji ostaju da se odupru i bore – prateći i instinkt za preživljavanjem i potrebu za bliskošću.Usred razaranja i zvjerstava\, čovjek je apsorbiran u rat – a rat\, zauzvrat\, postaje dio čovjeka.‍ \n  \n\nPolitičko-društvena događanja u Ukrajini još su od Majdana 2014. pomno dokumentirana\, a eskalacija u narednim godinama inspirirala je niz filmova\, dijelom propagandnih\, dijelom pokušaja kontekstualizacije\, a dijelom opservacijskih\, istovremeno involviranog i distanciranog bilježenja ratne svakodnevice. Rat u Ukrajini nije prvi sukob koji zahvaljujući angažiranoj snimci postaje dostupan u realnom vremenu\, ali zasigurno omogućava višestrani uvid. Tome su jednako su pridonijeli Maidan (2014) Sergeja Loznice\, Dolazak proljeća u Buču (2022) Mile Tešajeve i Marcusa Lenza\, kao i Oscarom nagrađeni 20 dana u Mariupolju Mstyslava Chernova. Svi snimljeni direktno na lokacijama iskazuju moć vizualnog u posredovanju destruktivnosti sukoba\, kao i neprirodnost ratnog stanja za čovjeka\, koje mu međutim\, kao što autori Militantroposa sugeririaju\, može postati imanentno. \nUzmimo li u obzir da izostanak mira traje već desetljeće\, zaista možemo govoriti o novom obliku čovjeka u Ukrajini koji grupa autora\, Yelizaveta Smith\, Alina Gorleva\, i Simon Moskovyi naziva Militantropos (milit + anthropos)\, a istoimeni film pokazuje razmjere normalizacije takvog modusa egzistencije\, skoro pa pomirenje\, jer se kraj ionako ne nazire. Vezivanje svake dostupne perspektive uz razaranje\, smrt i prijetnju\, ne dopušta opuštanje i zaborav\, a film manifestira posljedice tog stanja na pojedinca i zajednicu. \nStrukturiran klasično bez ciljanih artističkih upliva\, izuzmemo li totale krajobraza kontrastiranih zvukovima koji se pomaljaju s ruba kadra\, Militantropos je opservacijski presjek ukrajinske zbilje uokvirene ratom. Okupljanje\, žalovanje\, vojnički život nasuprot seoskom i urbanom\, momenti su u koje kamera prodire\, tragajući za rijetkim trenucima smiraja uslijed posvemašnjeg uništenja. \n\nFestivali i nagrade: službena selekcija Quinzaine des Cinéastes\, Cannes Film Festival 2025.\, službena selekcija Munich Film Festival 2025.; službena selekcija Sarajevo Film Festival 2025. \n  \nHuman Rights Film Festival posvećen je ljudskopravaškim temama i autorskom filmu\, kao i uvijek dosad\, i ove godine uključuje niz igranih\, dokumentarnih i eksperimentalnih filmova koji su obilježili tekuću filmsku godinu. Ulaz na kompletan festivalski program je besplatan.
URL:https://dokukino.net/film/23-hrff-militantropos/
LOCATION:Dokukino KIC\, Preradovićeva 5
CATEGORIES:Dugometražni
ATTACH;FMTTYPE=image/jpeg:https://dokukino.net/wp-content/uploads/2025/11/700x870.jpg
END:VEVENT
END:VCALENDAR