BEGIN:VCALENDAR
VERSION:2.0
PRODID:-//Dokukino KIC - Kino sa stavom - ECPv6.8.1//NONSGML v1.0//EN
CALSCALE:GREGORIAN
METHOD:PUBLISH
X-WR-CALNAME:Dokukino KIC - Kino sa stavom
X-ORIGINAL-URL:https://dokukino.net
X-WR-CALDESC:Events for Dokukino KIC - Kino sa stavom
REFRESH-INTERVAL;VALUE=DURATION:PT1H
X-Robots-Tag:noindex
X-PUBLISHED-TTL:PT1H
BEGIN:VTIMEZONE
TZID:UTC
BEGIN:STANDARD
TZOFFSETFROM:+0000
TZOFFSETTO:+0000
TZNAME:UTC
DTSTART:20250101T000000
END:STANDARD
END:VTIMEZONE
BEGIN:VEVENT
DTSTART;TZID=UTC:20251204T170000
DTEND;TZID=UTC:20251204T180000
DTSTAMP:20260424T142407
CREATED:20251201T101021Z
LAST-MODIFIED:20251201T101021Z
UID:25202-1764867600-1764871200@dokukino.net
SUMMARY:23. HRFF: Predstavljanje projekta: Od arhiva do ekrana - Digitalni narativi u suočavanju s ratnom prošlošću
DESCRIPTION:Autori će predstaviti digitalni narativ i bilten koji se bavi počinjenjem kršenja ljudskih prava za vrijeme vojne i policijske operacije Džep 93 koja je provedena 1993. godine u Hrvatskoj. Ovo istraživanje kroz formu online interaktivne priče analizira glavne događaje i aktere\, postavlja interpretacijski okvir počinjenja zločina\, ciljeva i posljedica akcije.\n‍\nSudionici će prikazati modele i načine korištenja arhivskih snimaka i fotografija te digitalnih alata za stvaranje online arhiva kao modela učenja o traumatičnoj prošlosti. \nGovore: \n‍Branka Vierda\, Nikola Puharić – autori istraživanja i koncepta\nMladen Katanić – dizajn i programiranje\nIvica Đorđević – autor videa i montaža\nModerira: Aneta Vladimirov
URL:https://dokukino.net/film/23-hrff-predstavljanje-projekta-od-arhiva-do-ekrana-digitalni-narativi-u-suocavanju-s-ratnom-prosloscu/
LOCATION:Dokukino KIC\, Preradovićeva 5
CATEGORIES:Događaj
ATTACH;FMTTYPE=image/jpeg:https://dokukino.net/wp-content/uploads/2025/11/700x870.jpg
END:VEVENT
BEGIN:VEVENT
DTSTART;TZID=UTC:20251204T190000
DTEND;TZID=UTC:20251204T203000
DTSTAMP:20260424T142407
CREATED:20251126T220804Z
LAST-MODIFIED:20260225T150055Z
UID:25139-1764874800-1764880200@dokukino.net
SUMMARY:23. HRFF: Ono što treba činiti
DESCRIPTION:Usred suvremene Europe koja se sve više oslanja na jeftin migrantski rad\, troje iznimnih pojedinaca – Goran Lukić\, Laura Orel i Goran Zrnić – udružuju snage i progovaraju u ime onih čiji se glas rijetko čuje. U malom\, ali upornom Radničkom savjetovalištu svakodnevno susreću prevarene i obespravljene radnike iz različitih krajeva svijeta\, ljude koji traže pomoć i smisao u borbi za osnovna prava i dostojanstvo. Film intimno i realistično oslikava i granice i mogućnosti istinskog sindikalnog djelovanja\, ali i snagu zajedničke solidarnosti koja\, unatoč svemu\, daje nadu u pravedniju budućnost. \n  \n\nDidaktična strogost iskazana u naslovu rastvara se već u prvim kadrovima filma prepoznatljivim pristupom Srđana Kovačevića\, koji ne docira\, već protagonistima omogućava zadobivanje prostora pred kamerama i njegovu preobrazbu u sigurno mjesto dijaloga\, čiji zaključci streme van zadanog okvira. U potrazi za adekvatnijim oblicima društvenosti krajnji je cilj nadići neposredno dano\, a iznađene koncepte ispitivati u promjenjivim kontekstima. Ono što treba činiti i dalje je usidren u snažnu aktivističku potku\, no dok je prethodni redateljev film Tvornica radnicima\, bio posvećen propitivanju mogućnosti samoupravljanja u suvremenim uvjetima\, aktualni se vraća zastupanju onih čiji je glas minimaliziran i marginaliziran\, a politička svijest sustavno potiskivana. \nFilm je strukturiran oko dva pola istog procesa\, radnika\, kojima su negirani dostojanstvo i osnovna radna prava\, stoga iznesena situacija dijelom podsjeća na gastarbajterske filmove Želimira Žilnika s akterima razapetima između svjesnosti o neodrživosti situacije i egzistencijalne nužde\, odnosno njihovih savjetnika. Pravi su junaci priče tri zaposlenika ljubljanske Delavske svetovalnice\, Radničkog savjetovališta koji modificiraju klasičnu sindikalnu ulogu u skladu s dinamičnom reakcijama na nove potrebe. Potpora koju pružaju nije deklarativna\, niti zapletena u administrativne stranputice\, razmatrajući svaku situaciju zasebno\, dokazuju da poštivanje osnovnih radnih uvjeta nije utopistička ideja\, a kontinuiranim se zagovaranjem i djelovanjem može realizirati. \nSnimanje je započelo 2017. i referira se na situaciju u Sloveniji\, a koja je danas na razini regulacije rada stranih radnika identična našem kontekstu. Društvena stvarnost sama usmjerava čitanje\, dok Kovačević plastično potvrđuje tezu o filmu kao sredstvu političke borbe. Spomenuta se didaktičnost očituje kao nužnost osvješćivanja samorazumljivih\, ali kontinuirano prikrivanih odnosa\, kao i kolektivna odgovornost da ih se aktivno komunicira. \n\nFestivali i nagrade: Službena selekcija DOK Leipzig 2025. \n  \nHuman Rights Film Festival posvećen je ljudskopravaškim temama i autorskom filmu\, kao i uvijek dosad\, i ove godine uključuje niz igranih\, dokumentarnih i eksperimentalnih filmova koji su obilježili tekuću filmsku godinu. Ulaz na kompletan festivalski program je besplatan.
URL:https://dokukino.net/film/23-hrff-ono-sto-treba-ciniti/2025-12-04/
LOCATION:Dokukino KIC\, Preradovićeva 5
CATEGORIES:Dugometražni
ATTACH;FMTTYPE=image/jpeg:https://dokukino.net/wp-content/uploads/2025/11/700x870.jpg
END:VEVENT
END:VCALENDAR