BEGIN:VCALENDAR
VERSION:2.0
PRODID:-//Dokukino KIC - Kino sa stavom - ECPv6.8.1//NONSGML v1.0//EN
CALSCALE:GREGORIAN
METHOD:PUBLISH
X-ORIGINAL-URL:https://dokukino.net
X-WR-CALDESC:Events for Dokukino KIC - Kino sa stavom
REFRESH-INTERVAL;VALUE=DURATION:PT1H
X-Robots-Tag:noindex
X-PUBLISHED-TTL:PT1H
BEGIN:VTIMEZONE
TZID:UTC
BEGIN:STANDARD
TZOFFSETFROM:+0000
TZOFFSETTO:+0000
TZNAME:UTC
DTSTART:20250101T000000
END:STANDARD
END:VTIMEZONE
BEGIN:VEVENT
DTSTART;TZID=UTC:20251203T190000
DTEND;TZID=UTC:20251203T203000
DTSTAMP:20260424T142552
CREATED:20251126T221417Z
LAST-MODIFIED:20251126T221417Z
UID:25143-1764788400-1764793800@dokukino.net
SUMMARY:23. HRFF: Što ti ta priroda govori?
DESCRIPTION:Donghwa\, pjesnik u tridesetima\, ostavlja Junhee\, svoju djevojku s kojom je u vezi tri godine\, pred kućom njezinih roditelja i divi se njezinoj veličini. Namjerava pogledati dvorište i otići\, ali slučajno nailazi na Junheeinog oca i na kraju provede cijeli dan s njima. Posjećuje budistički hram uz rijeku i jede varivo s piletinom koju je Junheein otac pripremio. Navečer se napije i otkriva svoje prave osjećaje\, što antagonizira Junheeine roditelje. Rano sljedećeg jutra\, Donghwa se brzo oprašta od Junhee i odlazi. \n  \n\nPriroda postepeno postaje tihim i suptilnim svjedokom borbe pojedinca s vlastitom egzistencijom i nesigurnostima koje nameće suvremeno (korejsko) društvo. Iako je okosnica filma naizgled jednostavna – niz svakodnevnih\, donekle i besciljnih razgovora unutar spokojnog obiteljskog imanja– centralna okosnica filma je duboko promišljanje neraskidive veze čovjeka\, okoliša i materijalnih uvjeta koji određuju njegovu slobodu i odnosa prema društvenoj realnosti koja ga okružuje. Hong je redatelj vješt u stvaranju intimnih i introspektivnih mikrokozmosa koji se često okreće prirodi ne kao filmski dekor\, već kao prostor razotkrivanja unutarnjih napetosti i skrivenih nesigurnosti\, poput filma On the Beach at Night Alone (2017). \nHong suptilno razotkriva ekonomsku i egzistencijalnu tjeskobu modernog umjetnika\, čovjeka koji pokušava živjeti izvan financijskih i društvenih struktura\, ali ne uspijeva pobjeći njihovu utjecaju. U zanimljivom i višeslojnom prikazu kompleksnih međugeneracijskim odnosima\, priroda postaje simbol prijelaza – između sigurnosti obiteljskog doma i nesigurnosti samostalnog ostvaranja i slobode. Taj prijelaz\, međutim\, nije idealiziran niti romantiziran\, već višeslojan i surov. On je bolan\, pun sumnji i suočavanja s činjenicom da su snovi često privilegija onih koji si iste mogu financijski priuštiti. \nU tom smislu\, “What Does Nature Say to You?” suptilno postavlja presudno pitanje autentičnosti umjetničkog izraza i njegove neprestane uvjetovanosti ekonomskim pritiskom\, čineći pitanje (umjetničke) slobode nelagodnom i teškom temom za raspravu u obiteljskom okruženju. \n\nFestivali i nagrade: 61st Chicago International Film Festival\, 2025 Festival du nouveau cinéma\, 2025 Vancouver International Film Festival\, Berlin International Film Festival\, Buil Film Awards \n  \nHuman Rights Film Festival posvećen je ljudskopravaškim temama i autorskom filmu\, kao i uvijek dosad\, i ove godine uključuje niz igranih\, dokumentarnih i eksperimentalnih filmova koji su obilježili tekuću filmsku godinu. Ulaz na kompletan festivalski program je besplatan.
URL:https://dokukino.net/film/23-hrff-sto-ti-ta-priroda-govori/
LOCATION:Dokukino KIC\, Preradovićeva 5
CATEGORIES:Dugometražni
ATTACH;FMTTYPE=image/jpeg:https://dokukino.net/wp-content/uploads/2025/11/700x870.jpg
END:VEVENT
END:VCALENDAR