BEGIN:VCALENDAR
VERSION:2.0
PRODID:-//Dokukino KIC - Kino sa stavom - ECPv6.8.1//NONSGML v1.0//EN
CALSCALE:GREGORIAN
METHOD:PUBLISH
X-WR-CALNAME:Dokukino KIC - Kino sa stavom
X-ORIGINAL-URL:https://dokukino.net
X-WR-CALDESC:Events for Dokukino KIC - Kino sa stavom
REFRESH-INTERVAL;VALUE=DURATION:PT1H
X-Robots-Tag:noindex
X-PUBLISHED-TTL:PT1H
BEGIN:VTIMEZONE
TZID:UTC
BEGIN:STANDARD
TZOFFSETFROM:+0000
TZOFFSETTO:+0000
TZNAME:UTC
DTSTART:20250101T000000
END:STANDARD
END:VTIMEZONE
BEGIN:VEVENT
DTSTART;TZID=UTC:20251030T173000
DTEND;TZID=UTC:20251030T190000
DTSTAMP:20260420T134341
CREATED:20251022T183706Z
LAST-MODIFIED:20251030T141243Z
UID:24322-1761845400-1761850800@dokukino.net
SUMMARY:Hall of Fame: Neobična Amerika
DESCRIPTION:Krajem 1950-ih francuski dokumentarist François Reichenbach proveo je osamnaest mjeseci putujući Amerikom i snimajući njezine raznolike predjele\, osebujne stanovnike i njihove razbibrige. Reichenbach nas vodi na putovanje kroz bezbroj različitih Amerika te po uzoru na direktni film uz sveprisutnu i izrazito mobilnu kameru bilježi neočekivane mikro-događaje američkog života\, od kolijevke do groba\, od kokoši koja kugla za hranu do zatvorenika koji sudjeluju u rodeu kako bi smanjili svoje kazne. \nDobra\, loša i neobična Amerika ukazuju nam se kroz leću francuskog senzibiliteta dok Reichenbach svojim inovativnim kadriranjem i pristupom koji zove „cinémaaventure“ zahvaća poeziju svakodnevnog života u Americi i njegove često komične\, apsurdne i začudne aspekte. Pritom se istovremeno nježno izruguje francuskim stereotipima o Americi kao i žanru etnografskog dokumentarca. Elegična oda Americi 1950-ih također zahvaća i njene negativne aspekte – zatvorski industrijski kompleks\, podivljali konzumerizam te rastuće klasne podjele. \nFilm je snimljen prema scenariju Chrisa Markera čiju je izvornu naraciju Reichenbach prilagodio svojoj viziji a glas naratora pripada Jeanu Cocteau. Žovijalni soundtrack djelo je legendarnog džez glazbenika i filmskog skladatelja Michela Legranda koji je osvojio tri Oscara za filmsku glazbu i snažno obilježio novovalnu kinematografiju kroz suradnje s Jean-Lucom Godardom\, Agnès Varda\, Françoisom Reichenbachom te Jacquesom Demyjem. \nUvodnu riječ u film održat će filmska kritičarka Višnja Pentić. \n  \nFilm prikazujemo u sklopu ciklusa „Filmski putopisi“. Slijedeći geslo legendarnog dokumentarista i strastvenog hodača na duge staze\, njemačkog redatelja Wernera Herzoga\, da se svijet otkriva onima koji putuju pješice\, novu sezonu Hall of Fame – vodiča kroz povijest svjetske dokumentaristike odlučili smo posvetiti putopisnim dokumentarcima. Za sve željne nepoznatih i egzotičnih lokacija\, jedino specijalizirano hrvatsko dokumentarno kino filmskom će trakom rekreirati (ne)slavna putovanja i globtroterske pothvate renomiranih svjetskih dokumentarista. \nUz radoznalost putopisni dokumentarac iziskuje i umijeće pretakanja svojih avantura i doživljaja u filmski medij. U ciklusu otkrivamo s kakvim kreativnim\, autorskim i osobnim vizijama autori i autorice poput Wernera Herzoga\, Chrisa Markera\, Petera Mettlera\, Deborah Stratman ili Helke Misselwitz pristupaju ovome žanru koji je često pogrešno percipiran kroz edukativne TV-reportaže koje znaju degenerirati u senzacionalizam (tzv. mondo filmovi). Budući da je putovanje izrazito kronologijska kategorija\, putopisni filmovi često imaju karakter dnevnika a dijele i mnoge zajedničke teme i preokupacije s etnografskim filmom. Ciklus će kroz diskurzivni dio programa istražiti i odnos putopisnosti i kolonijalizma\, važnost susreta s Drugim\, te kritičko osvješćivanje vlastitih i tuđih putničkih praksi. \n  \nHall of Fame – vodič kroz povijest dokumentarnog filma serija je predstavljanja najznačajnijih dokumentaraca koji su svojim inovativnim pristupom utjecali na razvoj dokumentarizma.
URL:https://dokukino.net/film/hall-of-fame-neobicna-amerika/
LOCATION:Dokukino KIC\, Preradovićeva 5
CATEGORIES:Dugometražni
ATTACH;FMTTYPE=image/jpeg:https://dokukino.net/wp-content/uploads/2025/10/Poster-Amerique-insolite.jpg
END:VEVENT
END:VCALENDAR