BEGIN:VCALENDAR
VERSION:2.0
PRODID:-//Dokukino KIC - Kino sa stavom - ECPv6.8.1//NONSGML v1.0//EN
CALSCALE:GREGORIAN
METHOD:PUBLISH
X-ORIGINAL-URL:https://dokukino.net
X-WR-CALDESC:Events for Dokukino KIC - Kino sa stavom
REFRESH-INTERVAL;VALUE=DURATION:PT1H
X-Robots-Tag:noindex
X-PUBLISHED-TTL:PT1H
BEGIN:VTIMEZONE
TZID:UTC
BEGIN:STANDARD
TZOFFSETFROM:+0000
TZOFFSETTO:+0000
TZNAME:UTC
DTSTART:20250101T000000
END:STANDARD
END:VTIMEZONE
BEGIN:VEVENT
DTSTART;TZID=UTC:20251025T170000
DTEND;TZID=UTC:20251025T183000
DTSTAMP:20260420T135104
CREATED:20251003T203631Z
LAST-MODIFIED:20251021T090601Z
UID:23947-1761411600-1761417000@dokukino.net
SUMMARY:4. Cherry Pop: Hrvatski filmski prepoRod (panel)
DESCRIPTION:Europska filmska industrija i dalje savladava vlastitu malu školu rodne ravnopravnosti jer u posljednjih pet godina ne postoji nijedna europska zemlja koja je dosegnula udio 30% redateljica-autorica filmova s kino distribucijom. Iako je u Hrvatskoj primjetan sve veći i značajniji kreativni dopirnos filmskih autorica  na Pulskom filmskom festivalu udio ženskih autora je svega 2\,8 %. Zašto još uvijek postoji zamjetna razlika u zastupljenosti žena unutar filmske industrije? Koji su pomaci\, a koji problemi koji koče ravnopravnost u pogledu rodne zastupljenosti unutar filmskog svijeta? \n  \nVoditeljica tribine: Karla Kostadinovski \nSudionice tribine: Hana Jušić (redateljica)\, Sanja Milardović (glumica)\, Dunja Ivezić (redateljica\, kritičarka) \nViše o ostatku programa 4. Cherry Pop Festivala možete saznati OVDJE.
URL:https://dokukino.net/film/4-cherry-pop-hrvatski-filmski-preporod-panel/
LOCATION:Dokukino KIC\, Preradovićeva 5
CATEGORIES:Događaj
ATTACH;FMTTYPE=image/jpeg:https://dokukino.net/wp-content/uploads/2025/10/CPop2025-B1_page-00011-1.jpg
END:VEVENT
BEGIN:VEVENT
DTSTART;TZID=UTC:20251025T183000
DTEND;TZID=UTC:20251025T200000
DTSTAMP:20260420T135104
CREATED:20251003T204514Z
LAST-MODIFIED:20251016T174150Z
UID:23949-1761417000-1761422400@dokukino.net
SUMMARY:4. Cherry Pop: Cherry Pick 3 – Sve te senzacije u mom trbuhu & Grand Prize
DESCRIPTION:All Those Sensations in My Belly (Marko Dješka\, Hrvatska\, animirani\, 13’) \nProlazeći kroz tranziciju iz muškog u ženski rod/spol\, Matia pokušava pronaći iskrenu intimnu vezu s heteroseksualnim muškarcem. \nNagrade: \nMeđunarodni festival animiranog filma Anibar 2020. – najbolji film u sekciji Balkan\nSvjetski festival animiranog filma Animafest Zagreb 2020. – natjecanje hrvatskog filma – posebno priznanje \n  \n\nGrand Prize (Anja Koprivšek\, Hrvatska\, dokumentarni\, 46’) \nU konzervativnoj Hrvatskoj\, ballroom je prostor slobode za LGBTQ zajednicu. Valentina (29)\, je talentirana voguerica i jedna od osnivačica scene\, dok je Teo (21) početnik koji traži svoje mjesto. Podršku i inspiraciju pronalazi u Valentini\, koja ga podupire u njegovoj tranziciji\, dok on svojom upornošću topi njezine zidove. Kako vrijeme prolazi\, njihov se odnos razvija i produbljuje\, te mladi par počinje sanjati o zajedničkoj budućnosti. \nNagrade: \nZagrebDox 2024 – Regionalna konkurencija – Posebno priznanje za najbolji film mladog/e autora/ice do 35 godina \n  \nNakon projekcije slijedi razgovor s autorima Markom Dješkom te Anjom Koprivšek. \nSvi filmovi bit će popraćeni isključivo podnaslovima na engleskom jeziku\, a ulaz je besplatan. \nViše o ostatku programa 4. Cherry Pop Festivala možete saznati OVDJE.
URL:https://dokukino.net/film/4-cherry-pop-cherry-pick-3-sve-te-senzacije-u-mom-trbuhu-grand-prize/
LOCATION:Dokukino KIC\, Preradovićeva 5
CATEGORIES:Kratkometražni
ATTACH;FMTTYPE=image/jpeg:https://dokukino.net/wp-content/uploads/2025/10/CPop2025-B1_page-00011-1.jpg
END:VEVENT
BEGIN:VEVENT
DTSTART;TZID=UTC:20251025T200000
DTEND;TZID=UTC:20251025T213000
DTSTAMP:20260420T135104
CREATED:20251003T204948Z
LAST-MODIFIED:20251016T174145Z
UID:23957-1761422400-1761427800@dokukino.net
SUMMARY:4. Cherry Pop: Sweet Cherries 3
DESCRIPTION:The Eating of an Orange (May Kindred-Boothby\, Ujedinjeno Kraljevstvo\, animirani\, 7’) \nU velikoj ladanjskoj kući identične figure jedu isto\, kreću se isto\, izgledaju isto. No sve će se promijeniti za jednu ženu kada joj nepoznata figura daruje naranču. Nikada prije nije vidjela naranču. U istraživanju tog novog i uzbudljivog otkrića biva prenesena u drugi svijet lišajeva\, puževa i osjetilne fluidnosti. Ali kako to uskladiti sa svijetom koji poznaje? Mora donijeti odluku: napustiti svoje otkriće ili zakoračiti u novi način postojanja. \n\nMia Mio (Roxanne Peguet\, Luksemburg\, igrani\, 20’) \nNakon još jednog aferpartya Mia doživljava krizu identiteta\, a njezine dvije najbolje prijateljice pomažu joj nekoliko sati da prevlada važnu\, ako ne i najvažnju fazu u njezinom životu. \n\nGot a Place? (Estefania Serrano\, Španjolska\, igrani\, 16’) \nFilm istražuje različite osjetljivosti\, ne idealizirajući niti cenzurirajući gay seks u pomalo gorko-slatkoj priči o iskrenim vezama i lažnim očekivanjima. Portret pun ironije i ranjivosti o tome koliko je teško pronaći prostor — i fizički i simbolički — u kojem se može biti intiman. \n\nFAUSTYNA (Natalia Dutkiewicz\, Poljska\, dokumentarni\, 22’) \nFaustyna ima 22 godine i želi pronaći svoj glas. Hoće li joj seksualni rad i kazalište pomoći na tom putovanju? \n\nUnleaded 95 (Tina Emy Muffler\, Emma Hütt\, Njemačka/Austrija\, igrani\, 26’) \nTri prijateljice u svojim dvadesetima vraćaju se na mjesto svoje mladosti gdje u kasnopubertetskoj fazi lutanja između benzinskih postaja\, autocesta i najstarijeg lezbijskog bara na svijetu moraju ponovno pregovarati o svom prijateljstvu. \n  \nSvi filmovi bit će popraćeni isključivo podnaslovima na engleskom jeziku\, a ulaz je besplatan. \nViše o ostatku programa 4. Cherry Pop Festivala možete saznati OVDJE.
URL:https://dokukino.net/film/4-cherry-pop-sweet-cherries-3/
LOCATION:Dokukino KIC\, Preradovićeva 5
CATEGORIES:Kratkometražni
ATTACH;FMTTYPE=image/jpeg:https://dokukino.net/wp-content/uploads/2025/10/CPop2025-B1_page-00011-1.jpg
END:VEVENT
END:VCALENDAR