BEGIN:VCALENDAR
VERSION:2.0
PRODID:-//Dokukino KIC - Kino sa stavom - ECPv6.8.1//NONSGML v1.0//EN
CALSCALE:GREGORIAN
METHOD:PUBLISH
X-ORIGINAL-URL:https://dokukino.net
X-WR-CALDESC:Events for Dokukino KIC - Kino sa stavom
REFRESH-INTERVAL;VALUE=DURATION:PT1H
X-Robots-Tag:noindex
X-PUBLISHED-TTL:PT1H
BEGIN:VTIMEZONE
TZID:UTC
BEGIN:STANDARD
TZOFFSETFROM:+0000
TZOFFSETTO:+0000
TZNAME:UTC
DTSTART:20250101T000000
END:STANDARD
END:VTIMEZONE
BEGIN:VEVENT
DTSTART;TZID=UTC:20251019T170000
DTEND;TZID=UTC:20251019T183000
DTSTAMP:20260420T134511
CREATED:20251001T185809Z
LAST-MODIFIED:20251008T134258Z
UID:23988-1760893200-1760898600@dokukino.net
SUMMARY:Izgubljeni Dream Team
DESCRIPTION:Izgubljeni Dream Team film je o prijateljstvu\, rivalstvu i ljubavi prema igri u vremenu političkih nemira i nadolazećeg rata. Priča je ispričana iz perspektive trenera i igrača jedinstvene momčadi u povijesti sporta\, koja je 1991. godine na Europskom prvenstvu u Rimu osvojila zlato i stajala na postolju\, promatrajući dizanje zastave svoje zemlje – koja je tri dana ranije prestala postojati. \nAko se ne prikazuje prodaja karata\, kliknite ovdje. \nFestivali i nagrade: \nPULSKI FILMSKI FESTIVAL 2025. \nRecenzije: \n“Niti jugonostalgija niti jugokuđenje\, “Izgubljeni Dream Team” umješno predočava osebujan odlomak povijesti kojemu nije mjesto u zaboravu ni na margini\, zanimljivo i gledatelju koji i nije osobit poklonik košarke ili sporta.” Janko Heidl\, Dokumentarni.net \n“Film u tom smislu ima i povijesnu dimenziju\, ne samo kao trpka umjetnička (re)interpretacija događaja o kojima govori\, nego i kao dokument o ljudima koje predstavlja\, a koji se u izvornom sastavu više neće moći okupiti.” Boško Picula\, Zona filma
URL:https://dokukino.net/film/izgubljeni-dream-team/2025-10-19/
LOCATION:Dokukino KIC\, Preradovićeva 5
CATEGORIES:Dugometražni
ATTACH;FMTTYPE=image/jpeg:https://dokukino.net/wp-content/uploads/2025/10/team_556x800_hr.jpg
END:VEVENT
BEGIN:VEVENT
DTSTART;TZID=UTC:20251019T190000
DTEND;TZID=UTC:20251019T210000
DTSTAMP:20260420T134511
CREATED:20250912T142351Z
LAST-MODIFIED:20251211T233152Z
UID:23843-1760900400-1760907600@dokukino.net
SUMMARY:Treći svijet
DESCRIPTION:Treći svijet je više od dokumentarnog filma o Haustoru – legendarnom zagrebačkom bendu koji je oblikovao glazbenu scenu bivše Jugoslavije. To je priča o dvije kreativne suprotnosti: Darku Rundeku i Srđanu Sacheru. Kroz prodorne opservacije\, novo okupljanje u studiju i živopisnu arhivu\, film otkriva kako je u jednom trenutku zajednička sklonost magiji svakodnevice spojila ta dva kreativna svijeta da stvore treći. \nAko se ne prikazuje prodaja karata\, kliknite ovdje. \nFestivali i nagrade: \nSARAJEVO FILM FESTIVAL 2025 – SVJETSKA PREMIJERA / FILMSKI FESTIVAL HERCEG-NOVI 2025 / DOK’N’RIRAM 2025 / VUKOVAR FILM FESTIVAL 2025 – dobitnik Nagrade publike / LIBURNIA FILM FESTIVAL 2025 \nRecenzije: \n“Informativan i dostatno dinamičan pogled na jedno antologijsko umjetničko djelo i njegove tvorce.” Damir Radić\, Portal Novosti \n“Film Arsena Oremovića nas potiče na samostalno istraživanje… na ponovno preslušavanje albuma četrdeset godina nakon njegova nastanka i donošenje vlastitih zaključaka o njegovoj relevantnosti.” Erika Roša\, Dokumentarni.net \n 
URL:https://dokukino.net/film/treci-svijet-listopad/2025-10-19/
LOCATION:Dokukino KIC\, Preradovićeva 5
CATEGORIES:Dugometražni
ATTACH;FMTTYPE=image/jpeg:https://dokukino.net/wp-content/uploads/2025/09/TS_PlakatFIN.jpg
END:VEVENT
END:VCALENDAR