BEGIN:VCALENDAR
VERSION:2.0
PRODID:-//Dokukino KIC - Kino sa stavom - ECPv6.8.1//NONSGML v1.0//EN
CALSCALE:GREGORIAN
METHOD:PUBLISH
X-WR-CALNAME:Dokukino KIC - Kino sa stavom
X-ORIGINAL-URL:https://dokukino.net
X-WR-CALDESC:Events for Dokukino KIC - Kino sa stavom
REFRESH-INTERVAL;VALUE=DURATION:PT1H
X-Robots-Tag:noindex
X-PUBLISHED-TTL:PT1H
BEGIN:VTIMEZONE
TZID:UTC
BEGIN:STANDARD
TZOFFSETFROM:+0000
TZOFFSETTO:+0000
TZNAME:UTC
DTSTART:20250101T000000
END:STANDARD
END:VTIMEZONE
BEGIN:VEVENT
DTSTART;TZID=UTC:20251003T110000
DTEND;TZID=UTC:20251003T133000
DTSTAMP:20260420T104137
CREATED:20250930T084905Z
LAST-MODIFIED:20250930T084905Z
UID:23751-1759489200-1759498200@dokukino.net
SUMMARY:Doku-matineja: Mirotvorac
DESCRIPTION:Na prvom izdanju Doku-matineje\, filmskog programa namijenjenog osobama 54+\, nakon ljetne pauze prikazat ćemo novi dokumentarni film redatelja Ivana Ramljaka Mirotvorac (2025.)\, a nakon projekcije slijedi moderirani razgovor o filmu. \n  \nGodine 1991. na ulazu u Tenju ubijen je Josip Reihl Kir\, načelnik Osječke policije\, čovjek posvećen pregovorima i izbjegavanju rata. Dokumentarni film Mirotvorac\, kroz arhivski materijal i izjave svjedoka\, prati posljednjih nekoliko mjeseci njegova života u osvit krvavog hrvatsko-srpskog rata\, koji je Kir svim silama pokušao spriječiti. I danas\, nakon više od trideset godina\, mnogi su elementi tog ubojstva nerazjašnjeni\, a mogući nalogodavci nepoznati. Autor filma Ivan Ramljak jedan je od najznačajnijih hrvatskih dokumentarista srednje generacije\, prepoznatljiv po svom osebujnom pristupu povijesnim temama. \nFilm je premijerno prikazan na ZAGREBDOX-u 2025 te nagrađen na Pula Film Festivalu 2025 (Velika zlatna arena za najbolji film\, Zlatna arena za montažu (Damir Čučić))\, Liburnia Film Festivalu 2025 (Nagrada publike\, Grand prix) te RAFF-u 2025 (Nagrada publike). \n  \nO programu Doku-matineja \nU nastojanju da posjetiteljima treće životne dobi (54+) omogućimo zanimljiv\, kvalitetan i relevantna filmski program\, Dokukino KIC je pokrenulo Doku-matineje. Doku-matineje se održavaju zadnji petak u mjesecu\, u jutarnjem terminu od 11 do 13 sati\, te uključuju projekcije odabranih dokumentarnih filmova i razgovore uz kavu s filmskim autorima i stručnjacima. Smatramo da film\, druženje i razgovor imaju pozitivan utjecaj na mentalno i fizičko zdravlje pojedinaca\, te bismo voljeli našu stariju publiku što više uključiti u programe našeg kina!
URL:https://dokukino.net/film/doku-matineja-mirotvorac/
LOCATION:Dokukino KIC\, Preradovićeva 5
CATEGORIES:Dugometražni
ATTACH;FMTTYPE=image/jpeg:https://dokukino.net/wp-content/uploads/2025/04/MV5BMjdhMTcyYWItMzcxYy00ZTViLTg4ZjktMzc2MmM3ZDdhNTUzXkEyXkFqcGc@._V1_-1-565x800-1.jpg
END:VEVENT
BEGIN:VEVENT
DTSTART;TZID=UTC:20251003T180000
DTEND;TZID=UTC:20251003T200000
DTSTAMP:20260420T104137
CREATED:20250912T142351Z
LAST-MODIFIED:20250918T214652Z
UID:23046-1759514400-1759521600@dokukino.net
SUMMARY:Treći svijet
DESCRIPTION:Treći svijet je više od dokumentarnog filma o Haustoru – legendarnom zagrebačkom bendu koji je oblikovao glazbenu scenu bivše Jugoslavije. To je priča o dvije kreativne suprotnosti: Darku Rundeku i Srđanu Sacheru. Kroz prodorne opservacije\, novo okupljanje u studiju i živopisnu arhivu\, film otkriva kako je u jednom trenutku zajednička sklonost magiji svakodnevice spojila ta dva kreativna svijeta da stvore treći. \nNakon projekcije u petak 3. listopada održat će se razgovor s redateljem filma Arsenom Oremovićem i članovima grupe Haustor. Moderira Zoran Stajčić\, glazbeni kritičar i glavni urednik popkulturnog magazina Ravno do dna. \nUlaznice za ostale projekcije dostupne su ovdje. \nFestivali i nagrade: \nSARAJEVO FILM FESTIVAL 2025 – SVJETSKA PREMIJERA / FILMSKI FESTIVAL HERCEG-NOVI 2025 / DOK’N’RIRAM 2025 / VUKOVAR FILM FESTIVAL 2025 – dobitnik Nagrade publike / LIBURNIA FILM FESTIVAL 2025 \nRecenzije: \n“Informativan i dostatno dinamičan pogled na jedno antologijsko umjetničko djelo i njegove tvorce.” Damir Radić\, Portal Novosti \n“Film Arsena Oremovića nas potiče na samostalno istraživanje… na ponovno preslušavanje albuma četrdeset godina nakon njegova nastanka i donošenje vlastitih zaključaka o njegovoj relevantnosti.” Erika Roša\, Dokumentarni.net \n 
URL:https://dokukino.net/film/treci-svijet/2025-10-03/
LOCATION:Dokukino KIC\, Preradovićeva 5
CATEGORIES:Dugometražni
ATTACH;FMTTYPE=image/jpeg:https://dokukino.net/wp-content/uploads/2025/09/TS_PlakatFIN.jpg
END:VEVENT
END:VCALENDAR