BEGIN:VCALENDAR
VERSION:2.0
PRODID:-//Dokukino KIC - Kino sa stavom - ECPv6.8.1//NONSGML v1.0//EN
CALSCALE:GREGORIAN
METHOD:PUBLISH
X-ORIGINAL-URL:https://dokukino.net
X-WR-CALDESC:Events for Dokukino KIC - Kino sa stavom
REFRESH-INTERVAL;VALUE=DURATION:PT1H
X-Robots-Tag:noindex
X-PUBLISHED-TTL:PT1H
BEGIN:VTIMEZONE
TZID:UTC
BEGIN:STANDARD
TZOFFSETFROM:+0000
TZOFFSETTO:+0000
TZNAME:UTC
DTSTART:20250101T000000
END:STANDARD
END:VTIMEZONE
BEGIN:VEVENT
DTSTART;TZID=UTC:20250918T190000
DTEND;TZID=UTC:20250918T203000
DTSTAMP:20260420T134451
CREATED:20250912T125555Z
LAST-MODIFIED:20251027T123321Z
UID:23016-1758222000-1758227400@dokukino.net
SUMMARY:Helsinški učinak
DESCRIPTION:Trideset i pet svjetskih vođa okupilo se u dvorani Finlandija u Helsinkiju 29. srpnja 1975. na trodnevnoj sjednici u jeku Hladnog rata pod nazivom Konferencija o europskoj sigurnosti i suradnji\, poznatu još i kao Helsinški sporazum. Utemeljen na stotinama sati arhivskih snimaka\, ovaj film razotkriva diplomatski proces\, koji se često nedovoljno ozbiljno shvaća i otkriva kako je on imao presudan utjecaj na svijet. \nFilm prikazujemo u suradnji s Beldocsom. \nAko se ne prikazuje prodaja karata\, kliknite ovdje. \nFestivali i nagrade: \nCPH:DOX 2025 / DOK.FEST MUNICH 2025 / MILLENIUM DOCS AGAINST GRAVITY 2025 / BELDOCS 2025
URL:https://dokukino.net/film/helsinski-ucinak/2025-09-18/
LOCATION:Dokukino KIC\, Preradovićeva 5
CATEGORIES:Dugometražni
ATTACH;FMTTYPE=image/jpeg:https://dokukino.net/wp-content/uploads/2025/09/HKI_EFFECT_int-poster_web.jpg
END:VEVENT
END:VCALENDAR