BEGIN:VCALENDAR
VERSION:2.0
PRODID:-//Dokukino KIC - Kino sa stavom - ECPv6.8.1//NONSGML v1.0//EN
CALSCALE:GREGORIAN
METHOD:PUBLISH
X-WR-CALNAME:Dokukino KIC - Kino sa stavom
X-ORIGINAL-URL:https://dokukino.net
X-WR-CALDESC:Events for Dokukino KIC - Kino sa stavom
REFRESH-INTERVAL;VALUE=DURATION:PT1H
X-Robots-Tag:noindex
X-PUBLISHED-TTL:PT1H
BEGIN:VTIMEZONE
TZID:UTC
BEGIN:STANDARD
TZOFFSETFROM:+0000
TZOFFSETTO:+0000
TZNAME:UTC
DTSTART:20250101T000000
END:STANDARD
END:VTIMEZONE
BEGIN:VEVENT
DTSTART;TZID=UTC:20250912T190000
DTEND;TZID=UTC:20250912T210000
DTSTAMP:20260420T164841
CREATED:20250831T185731Z
LAST-MODIFIED:20250902T130828Z
UID:22700-1757703600-1757710800@dokukino.net
SUMMARY:Kritika i društvo: Novi gruzijski film
DESCRIPTION:Novi gruzijski film tematska je cjelina unutar programa Hrvatskog društva filmskih kritičara Kritika i društvo kojoj je cilj pozicionirati novu gruzijsku filmsku produkciju\, s naglaskom na dokumentarni rod i dokumentarističke pristupe. Uz goste iz Gruzije\, sagledat će se prisutnost gruzijskih filmova na svjetskim filmskim festivalima\, važnost domaćih filmskih festivala u Tbilisiju\, Kutaisiju i Batumiju\, te otvoriti relevantna pitanja domaće i međunarodne recepcije gruzijskoga filma. U fokusu će biti recentni filmovi često hibridne naravi\, u kojima se prepoznatljiv\, nepretenciozan humor susreće s neuljepšanim\, kritičkim pogledom na suvremenu gruzijsku stvarnost\, posebno sraz njenih urbanih i (polu)ruralnih aspekata te politička dimenzija društvenog – Sveta struja / Holy Electricity (2024) Tate Kotetishvilija\, Temo Re (2025) Anke Gujabidze\, Nasmijana Gruzija / Smiling Georgia (2023) Luke Beradzea i dr. \nTematska cjelina doprinosi razumijevanju još uvijek relativno rijetko poznatog gruzijskog nacionalnog i kavkaskog regionalnog društvenog konteksta i filmske scene u hrvatskoj sredini\, a i jedinstvena je inicijativa usredotočena na perspektive kritičara i kustosa. Premda načelno strane\, specifične okolnosti gruzijske filmske industrije posjeduju i paralele s industrijom u Hrvatskoj\, zbog čega ih vrijedi usporediti. Uspostavljen izravan kontakt između hrvatskih i gruzijskih filmskih djelatnika u konačnici proširuje vidike kako domaćih filmskih djelatnika\, tako i publike. \nNakon razgovora s kritičarkom i filmskom kustosicom Lizom Alpaidze\, glavnim glumcem i scenaristom Temom Rekhviashvilijem te redateljicom Ankom Gujabidze\, uslijedit će projekcija autoričina filma Temo Re (2025.\, 50′) koji je ove godine uvršten u konkurenciju međunarodnog filmskog festivala u Rotterdamu. Film prati glumca Tema\, koji u Tbilisiju dnevno prolazi desetine kilometara radeći kao dostavljač. Scenarij je temeljen na romanu Dostavljačeve priče Tema Rekvijašvilija\, koji u filmu igra samoga sebe\, u prodornoj i humorističnoj crno-bijeloj kronici gruzijske prijestolnice. Turbulentna vožnja kroz trošan ali raskošan grad transformira se u košmarnu viziju siromaštva\, korupcije i otuđenja. \nKustosica i moderatorica: Lucija Furač \nGosti: \nLiza Alpaidze (uživo) je filmska kritičarka iz Tbilisija. Suosnivačica je internetske platforme posvećene filmu i filmskoj industriji Es Aris Kino. Selektorica je i menadžerica društvenih mreža međunarodnog festivala kratkog filma u Kutaisiju (Kutaisi International Short Film Festival). \nTemo Rekhviashvili (uživo) glumac je i autor iz Tbilisija. Pokretač je i suosnivač različitih inicijativa u gruzijskoj kulturi (Otvorenog prostora eksperimentalne umjetnosti\, kazališta Haraki\, tajnog društva pjesnika YXXDP). Dostavljačeve priče nastale su kao blog objave i objavljene su u časopisu Sitkvebi (Riječi). \nAnka Gujabidze (online) je filmska redateljica i vizualna umjetnica iz Tbilisija. Prije nego što je počela raditi filmove\, radila je kao fotografkinja više od deset godina\, specijalizirajući dokumentarnu\, konceptualnu i portretnu fotografiju. Diplomirala je fotografiju u Gentu (Kraljevska akademija likovnih umjetnosti\, KASK) te završila preddiplomski studij animacije u Tbilisiju (Sveučilište za kazalište i film). \n 
URL:https://dokukino.net/film/kritika-i-drustvo-novi-gruzijski-film/
LOCATION:Dokukino KIC\, Preradovićeva 5
CATEGORIES:Događaj,Kratkometražni
ATTACH;FMTTYPE=image/jpeg:https://dokukino.net/wp-content/uploads/2025/08/HDFK_gruzija-B1-tisak_page-0001.jpg
END:VEVENT
BEGIN:VEVENT
DTSTART;TZID=UTC:20250912T210000
DTEND;TZID=UTC:20250912T230000
DTSTAMP:20260420T164841
CREATED:20250124T162927Z
LAST-MODIFIED:20250912T121927Z
UID:22677-1757710800-1757718000@dokukino.net
SUMMARY:Nagrađena Pula: Fiume o morte!
DESCRIPTION:Građani grada Rijeke\, kojeg Talijani zovu Fiume\, prepričavaju\, rekonstruiraju i reinterpretiraju bizarnu priču o 16-mjesečnoj okupaciji njihovog grada 1919. godine od strane talijanskog pjesnika\, dandyija i propovjednika rata Gabrielea D’Annunzija. \nIgor Bezinović je redatelj rođen u Rijeci\, gradu koji je danas u Hrvatskoj\, a koji je tada pripadao Socijalističkoj Federativnoj Republici Jugoslaviji\, prije toga djelomično Kraljevini Italiji i djelomično Kraljevini Jugoslaviji (a prije toga Kraljevini Srba\, Hrvata i Slovenaca)\, prije toga Slobodnoj Državi Rijeka\, prije toga Talijanskoj regenciji Kvarnera\, prije toga Austro-Ugarskoj… Režirao je filmove Blokada (nagrada Oktavijan za najbolji hrvatski dokumentarac u 2012.)\, Veruda (nagrada Oktavijan za najbolji hrvatski dokumentarac u 2015.) i Kratki izlet (Velika zlatna arena za najbolji hrvatski dugometražni igrani film u 2017.)\, kao i niz kratkih filmova raznih vrsta i trajanja. Njegov je rad bio međunarodno prikazivan na festivalima i događanjima kao što su IFF Rotterdam\, DOK Leipzig\, IDFF Jihlava\, CPH:DOX\, Kurzfilmtage Winterthur\, Bijenale mladih umjetnika Europe i Mediterana\, Bijenale arhitekture u Veneciji (s Hrvoslavom Brkušić za Pulsku grupu)\, Museum of the Moving Image\, Viennale i Guanajuato IFF. Diplomirao je Filmsku i TV režiju na Akademiji dramske umjetnosti u Zagrebu te filozofiju\, sociologiju i komparativnu književnost na Filozofskom fakultetu u Zagrebu. Član je Društva hrvatskih filmskih redatelja i judo kluba Black Belt. \n  \nFestivali i nagrade: \nROTTERDAM IFF 2025 – velika nagrada žirija Tiger\, nagrada FIPRESCI / PULA FILM FESTIVAL 2025 – Zlatne arene za režiju\, produkciju\, casting\, scenografiju\, kostimografiju i masku / SAN SEBASTIÁN IFF 2025 / DOKUFEST 2025 \nRecenzije: \n“Bezinović majstorski upreže razigrani bunt kako bi transformirao rigorozno istraživanje u živi\, dijeljeni resurs za solidarnost” Carmen Gray\, Sight & Sound \n“Snažno promišljanje tragova povijesti u sadašnjosti\, uvijek u blizini\, vabeći nas na povratak i upozoravajući nas da ne ponovimo svoje pogreške.” Iz objašnjenja dodijeljenje nagrade FIPRESCI na IFFR-u\, Tim Lindemann \n“Interesantan i relevantan pogled na reklo bi se pupčanom vrpcom povezanu prošlost i sadašnjost.” Damir Radić\, Novosti
URL:https://dokukino.net/film/fiume-o-morte-2025-09-12/2025-09-12/
LOCATION:Dokukino KIC\, Preradovićeva 5
CATEGORIES:Dugometražni
ATTACH;FMTTYPE=image/jpeg:https://dokukino.net/wp-content/uploads/2025/01/3_finished_hr_fiu_A4.jpg
END:VEVENT
END:VCALENDAR